Workbook

Sheet Forside
B1: Budsjetteringsmaler Universitetet i Oslo
B2: Velg type mal i nedtrekksmenyene under og faner vises automatisk
B3: Kategorisering
B4: Bidrag
B6: Søknadstype - oppdrag
B7: Konferansebudsjett
B9: Søknadstype - bidrag
B10: SFF
A40: 45314

Sheet Registrering
A2: Prosjektinformasjon
A3: Prosjekttittel*
A4: Prosjektleder*
A5: Prosjekteier *
A6: Navn på enhet*
A7: Kort begrunnelse for prosjektes faglige interesse* (Manglende eller dårlig begrunnelse vil kunne medføre avvist prosjektoppretting)
S11: Sats for ekst. fin. overhead
A12: Kort begrunnelse for kategorisering (bidrag/oppdrag)* (Manglende eller dårlig begrunnelse vil kunne medføre avvist prosjektoppretting) | S12: Rundsummer NFR
S13: Fast beløp
S14: Egenandel
A17: Prosjektnummer (om opprettet)
A18: Saksnummer i ephorte (om opprettet)
A19: Prosjektperiode
A20: Prosjektstart (dd.mm.år)*
A21: Prosjektets (avtaleperioden) start*
A22: Prosjektets (avtaleperioden) slutt*
A23: Prosjektslutt (dd.mm.år)
A24: Informasjon om finansiering
A25: Navn på finansieringskilde(r)
A26: NFR-program
A27: Prosjektkategorisering (Oppdrag eller Bidrag)*
A28: Finansieringstype* | H28: Legg inn prosentsats
A29: Prosjekttype (overheadkostnader)* | B29: Prosjekter som foregår i UiOs lokaler
A30: Rebudsjettering
A31: Beskrivelse av endringer
A36: Fra når gjelder rebudsjetteringene
A37: Ny sluttdato
A38: Oppdrag
A39: Påslag uforutsette hendelser (%)
A40: Påslag fortjeneste (%)
A41: Merverdiavgift
A42: Hvis ikke merverdiavgift, angi årsak
A44: Konferanser
A45: Antall betalende deltakere
A46: Antall deltakere hvor UiO har utlegg (forutsetter like utlegg)
... A48: Subsidiering (NB: husk å trekke ut mva- grunnlaget)
A49: Påslag for indirekte kostnader | B49: 0.4
A52: Ved valg av "Sats for eksternt finansiert overhead", skriv inn prosent
A53: Ved valg av "fast beløp", skriv inn beløp
A54: Pris- lønnsjustering
...

Sheet Budsjett
A1: Alle beløp er angitt i hele kroner | C1: Prosjekttittel: | D1: =Registrering!B3 -> 0 | AQ1: LØNNS- OG DRIFTSKOSTNADER | AW1: =AP4*K88 -> 0 | BE1: OVERHEADKOSTNADER | BT1: Eksternt finansiert overhead | CI1: Internt finansiert overhead | CX1: Ekstern finansiering | DN1: NFR | ED1: Private | ET1: Internasjonale | FJ1: Offentlige | GA1: Egenandel | GR1: Overhead i henhold til TDI
C2: =C10+C19 -> 0 | D2: =D10+D19 -> 0 | I2: REGISTRER MÅNEDSVERK
B3: Prosjektansatte | C3: Inntekter | D3: Lønn og sos. kostn. | E3: Årsv | F3: Finansiør | G3: Årslønn | H3: Navn | I3: =Tabeller!D1 -> 2025 | J3: =I3+1 -> 2026 | K3: =J3+1 -> 2027 | L3: =K3+1 -> 2028 | M3: =L3+1 -> 2029 | N3: =M3+1 -> 2030 | O3: =N3+1 -> 2031 | P3: =O3+1 -> 2032 | Q3: =P3+1 -> 2033 | ... U3: =T3+1 -> 2037 | AE3: Bruttolønn | AF3: inkl lønnsv. | AG3: Lønn | AH3: Feriep | AI3: AGA | AJ3: Pensjon | AK3: inkl sos.avg. | AL3: inkl. ind.kost. | AM3: Timesats | AP3: =I3 -> 2025 | AQ3: =J3 -> 2026 | AR3: =K3 -> 2027 | AS3: =L3 -> 2028 | AT3: =M3 -> 2029 | AU3: =N3 -> 2030 | AV3: =O3 -> 2031 | AW3: =P3 -> 2032 | ... BB3: =U3 -> 2037 | BD3: =AP3 -> 2025 | BE3: =AQ3 -> 2026 | BF3: =AR3 -> 2027 | BG3: =AS3 -> 2028 | BH3: =AT3 -> 2029 | BI3: =AU3 -> 2030 | BJ3: =AV3 -> 2031 | BK3: =AW3 -> 2032 | ... BP3: =BB3 -> 2037 | BS3: =BD3 -> 2025 | BT3: =BE3 -> 2026 | BU3: =BF3 -> 2027 | BV3: =BG3 -> 2028 | BW3: =BH3 -> 2029 | BX3: =BI3 -> 2030 | BY3: =BJ3 -> 2031 | BZ3: =BK3 -> 2032 | ... CE3: =BP3 -> 2037 | CH3: =CW3 -> 2025 | CI3: =CX3 -> 2026 | CJ3: =CY3 -> 2027 | CK3: =CZ3 -> 2028 | CL3: =DA3 -> 2029 | CM3: =DB3 -> 2030 | CN3: =DC3 -> 2031 | CO3: =DD3 -> 2032 | ... CT3: =DI3 -> 2037 | CW3: =BS3 -> 2025 | CX3: =BT3 -> 2026 | CY3: =BU3 -> 2027 | CZ3: =BV3 -> 2028 | DA3: =BW3 -> 2029 | DB3: =BX3 -> 2030 | DC3: =BY3 -> 2031 | DD3: =BZ3 -> 2032 | ... DI3: =CE3 -> 2037 | DJ3: Totalt | DN3: =BS3 -> 2025 | DO3: =BT3 -> 2026 | DP3: =BU3 -> 2027 | DQ3: =BV3 -> 2028 | DR3: =BW3 -> 2029 | DS3: =BX3 -> 2030 | DT3: =BY3 -> 2031 | DU3: =BZ3 -> 2032 | ... DZ3: =CE3 -> 2037 | EA3: Totalt | ED3: =CH3 -> 2025 | EE3: =CI3 -> 2026 | EF3: =CJ3 -> 2027 | EG3: =CK3 -> 2028 | EH3: =CL3 -> 2029 | EI3: =CM3 -> 2030 | EJ3: =CN3 -> 2031 | EK3: =CO3 -> 2032 | ... EP3: =CT3 -> 2037 | EQ3: Totalt | ET3: =CW3 -> 2025 | EU3: =CX3 -> 2026 | EV3: =CY3 -> 2027 | EW3: =CZ3 -> 2028 | EX3: =DA3 -> 2029 | EY3: =DB3 -> 2030 | EZ3: =DC3 -> 2031 | FA3: =DD3 -> 2032 | ... FG3: =DJ3 -> Totalt | FJ3: =DN3 -> 2025 | FK3: =DO3 -> 2026 | FL3: =DP3 -> 2027 | FM3: =DQ3 -> 2028 | FN3: =DR3 -> 2029 | FO3: =DS3 -> 2030 | FP3: =DT3 -> 2031 | FQ3: =DU3 -> 2032 | ... FW3: =EA3 -> Totalt | GA3: =ED3 -> 2025 | GB3: =EE3 -> 2026 | GC3: =EF3 -> 2027 | GD3: =EG3 -> 2028 | GE3: =EH3 -> 2029 | GF3: =EI3 -> 2030 | GG3: =EJ3 -> 2031 | GH3: =EK3 -> 2032 | ... GN3: =EQ3 -> Totalt | GQ3: =AP3 -> 2025 | GR3: =AQ3 -> 2026 | GS3: =AR3 -> 2027 | GT3: =AS3 -> 2028 | GU3: =AT3 -> 2029 | GV3: =AU3 -> 2030 | GW3: =AV3 -> 2031 | GX3: =AW3 -> 2032 | ... HC3: =BB3 -> 2037
D4: =SUM(AP4:BB4) -> 0 | E4: =SUM(I4:U4)/12 -> 0 | AE4: =G4 -> 0 | AF4: =AE4*Tabeller!$I$49 -> 0 | AG4: =IF(AE4>0,(AF4-400)/52*47,0) -> 0 | AH4: =AG4*Tabeller!$H$40 -> 0 | AI4: =SUM(AG4:AH4,AJ4)*Tabeller!$H$41 -> 0 | AJ4: =AF4*Tabeller!$H$42 -> 0 | AK4: =SUM(AG4:AJ4) -> 0 | AL4: =AK4+(IF(B4="Teknisk adm bistand",Registrering!$E$51,Registrering!$B$51)) -> 0 | AM4: =AL4/Tabeller!$H$5 -> 0 | AP4: =((I4*Budsjett!$AK4))/12 -> 0 | AQ4: =((J4*Budsjett!$AK4)*(Tabeller!J$49))/12 -> 0 | AR4: =((K4*Budsjett!$AK4)*(Tabeller!K$49))/12 -> 0 | AS4: =((L4*Budsjett!$AK4)*(Tabeller!L$49))/12 -> 0 | AT4: =((M4*Budsjett!$AK4)*(Tabeller!M$49))/12 -> 0 | AU4: =((N4*Budsjett!$AK4)*(Tabeller!N$49))/12 -> 0 | AV4: =((O4*Budsjett!$AK4)*(Tabeller!O$49))/12 -> 0 | AW4: =((P4*Budsjett!$AK4)*(Tabeller!P$49))/12 -> 0 | AX4: =((Q4*Budsjett!$AK4)*(Tabeller!Q$49))/12 -> 0 | ... BB4: =((U4*Budsjett!$AK4)*(Tabeller!U$49))/12 -> 0 | BD4: =IFERROR(IF(#REF!>#REF!,BS4,GQ4),0) -> 0 | BE4: =IFERROR(IF(#REF!>#REF!,BT4,GR4),0) -> 0 | BF4: =IFERROR(IF(#REF!>#REF!,BU4,GS4),0) -> 0 | BG4: =IFERROR(IF(#REF!>#REF!,BV4,GT4),0) -> 0 | BH4: =IFERROR(IF(#REF!>#REF!,BW4,GU4),0) -> 0 | BI4: =IFERROR(IF(#REF!>#REF!,BX4,GV4),0) -> 0 | BJ4: =IFERROR(IF(#REF!>#REF!,BY4,GW4),0) -> 0 | BK4: =IFERROR(IF(#REF!>#REF!,BZ4,GX4),0) -> 0 | ... BP4: =IFERROR(IF(#REF!>#REF!,CE4,HC4),0) -> 0 | BS4: =IFERROR(IF(#REF!=#REF!,AP4*#REF!,AP4*Budsjett!#REF!),0) -> 0 | BT4: =IFERROR(IF(#REF!=#REF!,AQ4*#REF!,AQ4*Budsjett!#REF!),0) -> 0 | BU4: =IFERROR(IF(#REF!=#REF!,AR4*#REF!,AR4*Budsjett!#REF!),0) -> 0 | BV4: =IFERROR(IF(#REF!=#REF!,AS4*#REF!,AS4*Budsjett!#REF!),0) -> 0 | BW4: =IFERROR(IF(#REF!=#REF!,AT4*#REF!,AT4*Budsjett!#REF!),0) -> 0 | BX4: =IFERROR(IF(#REF!=#REF!,AU4*#REF!,AU4*Budsjett!#REF!),0) -> 0 | BY4: =IFERROR(IF(#REF!=#REF!,AV4*#REF!,AV4*Budsjett!#REF!),0) -> 0 | BZ4: =IFERROR(IF(#REF!=#REF!,AW4*#REF!,AW4*Budsjett!#REF!),0) -> 0 | ... CE4: =IFERROR(IF(#REF!=#REF!,BB4*#REF!,BB4*Budsjett!#REF!),0) -> 0 | CH4: =BD4-BS4 -> 0 | CI4: =BE4-BT4 -> 0 | CJ4: =BF4-BU4 -> 0 | CK4: =BG4-BV4 -> 0 | CL4: =BH4-BW4 -> 0 | CM4: =BI4-BX4 -> 0 | CN4: =BJ4-BY4 -> 0 | CO4: =BK4-BZ4 -> 0 | ... CT4: =BP4-CE4 -> 0 | CV4: =B4 -> 0 | CW4: =-((IF($CV4="Teknisk/adm. bistand/Feltassistent",IF(Budsjett!AP4*(1+Tabeller!$I$76)>Tabeller!I$69,Tabeller!I$69,Budsjett!AP4*(1+Tabeller!$I$76)),0)+(IF($CV4="Forsker - professor",Tabeller!I$69*I4,0)+IF($CV4="Prosjektleder/adm.leder",Tabeller!I$68*I4,0)+IF($CV4="Forsker - 1.aman.",Tabeller!I$70*I4,0)+IF($CV4="Gjesteforsker",Tabeller!I$72*I4,0)+IF($CV4="Postdoktor / forsker",Tabeller!I$73*I4,0)+IF($CV4="Stipendiat",Tabeller!I$74*I4,0)+IF($CV4="Forsker (rundsum)",Tabeller!I$71*I4,0)+IF($CV4="Vit.ass",Tabeller!I$75*I4,0))/12)) -> 0 | CX4: =-((IF($CV4="Teknisk/adm. bistand/Feltassistent",IF(Budsjett!AQ4*(1+Tabeller!$I$76)>Tabeller!J$69,Tabeller!J$69,Budsjett!AQ4*(1+Tabeller!$I$76)),0)+(IF($CV4="Forsker - professor",Tabeller!J$69*J4,0)+IF($CV4="Prosjektleder/adm.leder",Tabeller!J$68*J4,0)+IF($CV4="Forsker - 1.aman.",Tabeller!J$70*J4,0)+IF($CV4="Gjesteforsker",Tabeller!J$72*J4,0)+IF($CV4="Postdoktor / forsker",Tabeller!J$73*J4,0)+IF($CV4="Stipendiat",Tabeller!J$74*J4,0)+IF($CV4="Forsker (rundsum)",Tabeller!J$71*J4,0)+IF($CV4="Vit.ass",Tabeller!J$75*J4,0))/12)) -> 0 | CY4: =-((IF($CV4="Teknisk/adm. bistand/Feltassistent",IF(Budsjett!AR4*(1+Tabeller!$I$76)>Tabeller!K$69,Tabeller!K$69,Budsjett!AR4*(1+Tabeller!$I$76)),0)+(IF($CV4="Forsker - professor",Tabeller!K$69*K4,0)+IF($CV4="Prosjektleder/adm.leder",Tabeller!K$68*K4,0)+IF($CV4="Forsker - 1.aman.",Tabeller!K$70*K4,0)+IF($CV4="Gjesteforsker",Tabeller!K$72*K4,0)+IF($CV4="Postdoktor / forsker",Tabeller!K$73*K4,0)+IF($CV4="Stipendiat",Tabeller!K$74*K4,0)+IF($CV4="Forsker (rundsum)",Tabeller!K$71*K4,0)+IF($CV4="Vit.ass",Tabeller!K$75*K4,0))/12)) -> 0 | CZ4: =-((IF($CV4="Teknisk/adm. bistand/Feltassistent",IF(Budsjett!AS4*(1+Tabeller!$I$76)>Tabeller!L$69,Tabeller!L$69,Budsjett!AS4*(1+Tabeller!$I$76)),0)+(IF($CV4="Forsker - professor",Tabeller!L$69*L4,0)+IF($CV4="Prosjektleder/adm.leder",Tabeller!L$68*L4,0)+IF($CV4="Forsker - 1.aman.",Tabeller!L$70*L4,0)+IF($CV4="Gjesteforsker",Tabeller!L$72*L4,0)+IF($CV4="Postdoktor / forsker",Tabeller!L$73*L4,0)+IF($CV4="Stipendiat",Tabeller!L$74*L4,0)+IF($CV4="Forsker (rundsum)",Tabeller!L$71*L4,0)+IF($CV4="Vit.ass",Tabeller!L$75*L4,0))/12)) -> 0 | DA4: =-((IF($CV4="Teknisk/adm. bistand/Feltassistent",IF(Budsjett!AT4*(1+Tabeller!$I$76)>Tabeller!M$69,Tabeller!M$69,Budsjett!AT4*(1+Tabeller!$I$76)),0)+(IF($CV4="Forsker - professor",Tabeller!M$69*M4,0)+IF($CV4="Prosjektleder/adm.leder",Tabeller!M$68*M4,0)+IF($CV4="Forsker - 1.aman.",Tabeller!M$70*M4,0)+IF($CV4="Gjesteforsker",Tabeller!M$72*M4,0)+IF($CV4="Postdoktor / forsker",Tabeller!M$73*M4,0)+IF($CV4="Stipendiat",Tabeller!M$74*M4,0)+IF($CV4="Forsker (rundsum)",Tabeller!M$71*M4,0)+IF($CV4="Vit.ass",Tabeller!M$75*M4,0))/12)) -> 0 | DB4: =-((IF($CV4="Teknisk/adm. bistand/Feltassistent",IF(Budsjett!AU4*(1+Tabeller!$I$76)>Tabeller!N$69,Tabeller!N$69,Budsjett!AU4*(1+Tabeller!$I$76)),0)+(IF($CV4="Forsker - professor",Tabeller!N$69*N4,0)+IF($CV4="Prosjektleder/adm.leder",Tabeller!N$68*N4,0)+IF($CV4="Forsker - 1.aman.",Tabeller!N$70*N4,0)+IF($CV4="Gjesteforsker",Tabeller!N$72*N4,0)+IF($CV4="Postdoktor / forsker",Tabeller!N$73*N4,0)+IF($CV4="Stipendiat",Tabeller!N$74*N4,0)+IF($CV4="Forsker (rundsum)",Tabeller!N$71*N4,0)+IF($CV4="Vit.ass",Tabeller!N$75*N4,0))/12)) -> 0 | DC4: =-((IF($CV4="Teknisk/adm. bistand/Feltassistent",IF(Budsjett!AV4*(1+Tabeller!$I$76)>Tabeller!O$69,Tabeller!O$69,Budsjett!AV4*(1+Tabeller!$I$76)),0)+(IF($CV4="Forsker - professor",Tabeller!O$69*O4,0)+IF($CV4="Prosjektleder/adm.leder",Tabeller!O$68*O4,0)+IF($CV4="Forsker - 1.aman.",Tabeller!O$70*O4,0)+IF($CV4="Gjesteforsker",Tabeller!O$72*O4,0)+IF($CV4="Postdoktor / forsker",Tabeller!O$73*O4,0)+IF($CV4="Stipendiat",Tabeller!O$74*O4,0)+IF($CV4="Forsker (rundsum)",Tabeller!O$71*O4,0)+IF($CV4="Vit.ass",Tabeller!O$75*O4,0))/12)) -> 0 | DD4: =-((IF($CV4="Teknisk/adm. bistand/Feltassistent",IF(Budsjett!AW4*(1+Tabeller!$I$76)>Tabeller!P$69,Tabeller!P$69,Budsjett!AW4*(1+Tabeller!$I$76)),0)+(IF($CV4="Forsker - professor",Tabeller!P$69*P4,0)+IF($CV4="Prosjektleder/adm.leder",Tabeller!P$68*P4,0)+IF($CV4="Forsker - 1.aman.",Tabeller!P$70*P4,0)+IF($CV4="Gjesteforsker",Tabeller!P$72*P4,0)+IF($CV4="Postdoktor / forsker",Tabeller!P$73*P4,0)+IF($CV4="Stipendiat",Tabeller!P$74*P4,0)+IF($CV4="Forsker (rundsum)",Tabeller!P$71*P4,0)+IF($CV4="Vit.ass",Tabeller!P$75*P4,0))/12)) -> 0 | ... DI4: =-((IF($CV4="Teknisk/adm. bistand/Feltassistent",IF(Budsjett!BB4*(1+Tabeller!$I$76)>Tabeller!U$69,Tabeller!U$69,Budsjett!BB4*(1+Tabeller!$I$76)),0)+(IF($CV4="Forsker - professor",Tabeller!U$69*U4,0)+IF($CV4="Prosjektleder/adm.leder",Tabeller!U$68*U4,0)+IF($CV4="Forsker - 1.aman.",Tabeller!U$70*U4,0)+IF($CV4="Gjesteforsker",Tabeller!U$72*U4,0)+IF($CV4="Postdoktor / forsker",Tabeller!U$73*U4,0)+IF($CV4="Stipendiat",Tabeller!U$74*U4,0)+IF($CV4="Forsker (rundsum)",Tabeller!U$71*U4,0)+IF($CV4="Vit.ass",Tabeller!U$75*U4,0))/12)) -> 0 | DJ4: =SUM(CW4:DI4) -> 0 | DM4: =CV4 -> 0 | DN4: =IF($F4="NFR",CW4,0) -> 0 | DO4: =IF($F4="NFR",CX4,0) -> 0 | DP4: =IF($F4="NFR",CY4,0) -> 0 | DQ4: =IF($F4="NFR",CZ4,0) -> 0 | DR4: =IF($F4="NFR",DA4,0) -> 0 | DS4: =IF($F4="NFR",DB4,0) -> 0 | DT4: =IF($F4="NFR",DC4,0) -> 0 | DU4: =IF($F4="NFR",DD4,0) -> 0 | ... DZ4: =IF($F4="NFR",DI4,0) -> 0 | EA4: =SUM(DN4:DZ4) -> 0 | EC4: =DM4 -> 0 | ED4: =IF($F4=$ED$1,CW4,0) -> 0 | EE4: =IF($F4=$ED$1,CX4,0) -> 0 | EF4: =IF($F4=$ED$1,CY4,0) -> 0 | EG4: =IF($F4=$ED$1,CZ4,0) -> 0 | EH4: =IF($F4=$ED$1,DA4,0) -> 0 | EI4: =IF($F4=$ED$1,DB4,0) -> 0 | EJ4: =IF($F4=$ED$1,DC4,0) -> 0 | EK4: =IF($F4=$ED$1,DD4,0) -> 0 | ... EP4: =IF($F4=$ED$1,DI4,0) -> 0 | EQ4: =SUM(ED4:EP4) -> 0 | ES4: =EC4 -> 0 | ET4: =IF($F4=$ET$1,CW4,0) -> 0 | EU4: =IF($F4=$ET$1,CX4,0) -> 0 | EV4: =IF($F4=$ET$1,CY4,0) -> 0 | EW4: =IF($F4=$ET$1,CZ4,0) -> 0 | EX4: =IF($F4=$ET$1,DA4,0) -> 0 | EY4: =IF($F4=$ET$1,DB4,0) -> 0 | EZ4: =IF($F4=$ET$1,DC4,0) -> 0 | FA4: =IF($F4=$ET$1,DD4,0) -> 0 | ... FF4: =IF($F4=$ET$1,DI4,0) -> 0 | FG4: =SUM(ET4:FF4) -> 0 | FI4: =ES4 -> 0 | FJ4: =IF($F4=$FJ$1,CW4,0) -> 0 | FK4: =IF($F4=$FJ$1,CX4,0) -> 0 | FL4: =IF($F4=$FJ$1,CY4,0) -> 0 | FM4: =IF($F4=$FJ$1,CZ4,0) -> 0 | FN4: =IF($F4=$FJ$1,DA4,0) -> 0 | FO4: =IF($F4=$FJ$1,DB4,0) -> 0 | FP4: =IF($F4=$FJ$1,DC4,0) -> 0 | FQ4: =IF($F4=$FJ$1,DD4,0) -> 0 | ... FV4: =IF($F4=$FJ$1,DI4,0) -> 0 | FW4: =SUM(FJ4:FV4) -> 0 | FZ4: =FI4 -> 0 | GN4: =SUM(GA4:GM4) -> 0 | GQ4: =IF(Registrering!$B$29="Prosjekter som foregår i UiOs lokaler",IF($B4="Teknisk/adm. bistand/Feltassistent",(I4/12)*Tabeller!J$11,(I4/12)*Tabeller!J$10),IF($B4="Teknisk/adm. bistand/Feltassistent",(I4/12)*Tabeller!J$13,(I4/12)*Tabeller!J$12)) -> 0 | GR4: =IF(Registrering!$B$29="Prosjekter som foregår i UiOs lokaler",IF($B4="Teknisk/adm. bistand/Feltassistent",(J4/12)*Tabeller!K$11,(J4/12)*Tabeller!K$10),IF($B4="Teknisk/adm. bistand/Feltassistent",(J4/12)*Tabeller!K$13,(J4/12)*Tabeller!K$12)) -> 0 | GS4: =IF(Registrering!$B$29="Prosjekter som foregår i UiOs lokaler",IF($B4="Teknisk/adm. bistand/Feltassistent",(K4/12)*Tabeller!L$11,(K4/12)*Tabeller!L$10),IF($B4="Teknisk/adm. bistand/Feltassistent",(K4/12)*Tabeller!L$13,(K4/12)*Tabeller!L$12)) -> 0 | GT4: =IF(Registrering!$B$29="Prosjekter som foregår i UiOs lokaler",IF($B4="Teknisk/adm. bistand/Feltassistent",(L4/12)*Tabeller!M$11,(L4/12)*Tabeller!M$10),IF($B4="Teknisk/adm. bistand/Feltassistent",(L4/12)*Tabeller!M$13,(L4/12)*Tabeller!M$12)) -> 0 | GU4: =IF(Registrering!$B$29="Prosjekter som foregår i UiOs lokaler",IF($B4="Teknisk/adm. bistand/Feltassistent",(M4/12)*Tabeller!N$11,(M4/12)*Tabeller!N$10),IF($B4="Teknisk/adm. bistand/Feltassistent",(M4/12)*Tabeller!N$13,(M4/12)*Tabeller!N$12)) -> 0 | GV4: =IF(Registrering!$B$29="Prosjekter som foregår i UiOs lokaler",IF($B4="Teknisk/adm. bistand/Feltassistent",(N4/12)*Tabeller!O$11,(N4/12)*Tabeller!O$10),IF($B4="Teknisk/adm. bistand/Feltassistent",(N4/12)*Tabeller!O$13,(N4/12)*Tabeller!O$12)) -> 0 | GW4: =IF(Registrering!$B$29="Prosjekter som foregår i UiOs lokaler",IF($B4="Teknisk/adm. bistand/Feltassistent",(O4/12)*Tabeller!P$11,(O4/12)*Tabeller!P$10),IF($B4="Teknisk/adm. bistand/Feltassistent",(O4/12)*Tabeller!P$13,(O4/12)*Tabeller!P$12)) -> 0 | GX4: =IF(Registrering!$B$29="Prosjekter som foregår i UiOs lokaler",IF($B4="Teknisk/adm. bistand/Feltassistent",(P4/12)*Tabeller!Q$11,(P4/12)*Tabeller!Q$10),IF($B4="Teknisk/adm. bistand/Feltassistent",(P4/12)*Tabeller!Q$13,(P4/12)*Tabeller!Q$12)) -> 0 | ... HC4: =IF(Registrering!$B$29="Prosjekter som foregår i UiOs lokaler",IF($B4="Teknisk/adm. bistand/Feltassistent",(U4/12)*Tabeller!V$11,(U4/12)*Tabeller!V$10),IF($B4="Teknisk/adm. bistand/Feltassistent",(U4/12)*Tabeller!V$13,(U4/12)*Tabeller!V$12)) -> 0
D5: =SUM(AP5:BB5) -> 0 | E5: =SUM(I5:U5)/12 -> 0 | AE5: =G5 -> 0 | AF5: =AE5*Tabeller!$I$49 -> 0 | AG5: =IF(AE5>0,(AF5-400)/52*47,0) -> 0 | AH5: =AG5*Tabeller!$H$40 -> 0 | AI5: =SUM(AG5:AH5,AJ5)*Tabeller!$H$42 -> 0 | AJ5: =AF5*Tabeller!$H$41 -> 0 | AK5: =SUM(AG5:AJ5) -> 0 | AL5: =AK5+(IF(B5="Teknisk adm bistand",Registrering!$E$51,Registrering!$B$51)) -> 0 | AM5: =AL5/Tabeller!$H$5 -> 0 | AP5: =((I5*Budsjett!$AK5))/12 -> 0 | AQ5: =((J5*Budsjett!$AK5)*(Tabeller!J$49))/12 -> 0 | AR5: =((K5*Budsjett!$AK5)*(Tabeller!K$49))/12 -> 0 | AS5: =((L5*Budsjett!$AK5)*(Tabeller!L$49))/12 -> 0 | AT5: =((M5*Budsjett!$AK5)*(Tabeller!M$49))/12 -> 0 | AU5: =((N5*Budsjett!$AK5)*(Tabeller!N$49))/12 -> 0 | AV5: =((O5*Budsjett!$AK5)*(Tabeller!O$49))/12 -> 0 | AW5: =((P5*Budsjett!$AK5)*(Tabeller!P$49))/12 -> 0 | AX5: =((Q5*Budsjett!$AK5)*(Tabeller!Q$49))/12 -> 0 | ... BB5: =((U5*Budsjett!$AK5)*(Tabeller!U$49))/12 -> 0 | BD5: =IFERROR(IF(#REF!>#REF!,BS5,GQ5),0) -> 0 | BE5: =IFERROR(IF(#REF!>#REF!,BT5,GR5),0) -> 0 | BF5: =IFERROR(IF(#REF!>#REF!,BU5,GS5),0) -> 0 | BG5: =IFERROR(IF(#REF!>#REF!,BV5,GT5),0) -> 0 | BH5: =IFERROR(IF(#REF!>#REF!,BW5,GU5),0) -> 0 | BI5: =IFERROR(IF(#REF!>#REF!,BX5,GV5),0) -> 0 | BJ5: =IFERROR(IF(#REF!>#REF!,BY5,GW5),0) -> 0 | BK5: =IFERROR(IF(#REF!>#REF!,BZ5,GX5),0) -> 0 | ... BP5: =IFERROR(IF(#REF!>#REF!,CE5,HC5),0) -> 0 | BS5: =IFERROR(IF(#REF!=#REF!,AP5*#REF!,AP5*Budsjett!#REF!),0) -> 0 | BT5: =IFERROR(IF(#REF!=#REF!,AQ5*#REF!,AQ5*Budsjett!#REF!),0) -> 0 | BU5: =IFERROR(IF(#REF!=#REF!,AR5*#REF!,AR5*Budsjett!#REF!),0) -> 0 | BV5: =IFERROR(IF(#REF!=#REF!,AS5*#REF!,AS5*Budsjett!#REF!),0) -> 0 | BW5: =IFERROR(IF(#REF!=#REF!,AT5*#REF!,AT5*Budsjett!#REF!),0) -> 0 | BX5: =IFERROR(IF(#REF!=#REF!,AU5*#REF!,AU5*Budsjett!#REF!),0) -> 0 | BY5: =IFERROR(IF(#REF!=#REF!,AV5*#REF!,AV5*Budsjett!#REF!),0) -> 0 | BZ5: =IFERROR(IF(#REF!=#REF!,AW5*#REF!,AW5*Budsjett!#REF!),0) -> 0 | ... CE5: =IFERROR(IF(#REF!=#REF!,BB5*#REF!,BB5*Budsjett!#REF!),0) -> 0 | CH5: =BD5-BS5 -> 0 | CI5: =BE5-BT5 -> 0 | CJ5: =BF5-BU5 -> 0 | CK5: =BG5-BV5 -> 0 | CL5: =BH5-BW5 -> 0 | CM5: =BI5-BX5 -> 0 | CN5: =BJ5-BY5 -> 0 | CO5: =BK5-BZ5 -> 0 | ... CT5: =BP5-CE5 -> 0 | CV5: =B5 -> 0 | CW5: =-((IF($CV5="Teknisk/adm. bistand/Feltassistent",IF(Budsjett!AP5*(1+Tabeller!$I$76)>Tabeller!I$69,Tabeller!I$69,Budsjett!AP5*(1+Tabeller!$I$76)),0)+(IF($CV5="Forsker - professor",Tabeller!I$69*I5,0)+IF($CV5="Prosjektleder/adm.leder",Tabeller!I$68*I5,0)+IF($CV5="Forsker - 1.aman.",Tabeller!I$70*I5,0)+IF($CV5="Gjesteforsker",Tabeller!I$72*I5,0)+IF($CV5="Postdoktor / forsker",Tabeller!I$73*I5,0)+IF($CV5="Stipendiat",Tabeller!I$74*I5,0)+IF($CV5="Forsker (rundsum)",Tabeller!I$71*I5,0)+IF($CV5="Vit.ass",Tabeller!I$75*I5,0))/12)) -> 0 | CX5: =-((IF($CV5="Teknisk/adm. bistand/Feltassistent",IF(Budsjett!AQ5*(1+Tabeller!$I$76)>Tabeller!J$69,Tabeller!J$69,Budsjett!AQ5*(1+Tabeller!$I$76)),0)+(IF($CV5="Forsker - professor",Tabeller!J$69*J5,0)+IF($CV5="Prosjektleder/adm.leder",Tabeller!J$68*J5,0)+IF($CV5="Forsker - 1.aman.",Tabeller!J$70*J5,0)+IF($CV5="Gjesteforsker",Tabeller!J$72*J5,0)+IF($CV5="Postdoktor / forsker",Tabeller!J$73*J5,0)+IF($CV5="Stipendiat",Tabeller!J$74*J5,0)+IF($CV5="Forsker (rundsum)",Tabeller!J$71*J5,0)+IF($CV5="Vit.ass",Tabeller!J$75*J5,0))/12)) -> 0 | CY5: =-((IF($CV5="Teknisk/adm. bistand/Feltassistent",IF(Budsjett!AR5*(1+Tabeller!$I$76)>Tabeller!K$69,Tabeller!K$69,Budsjett!AR5*(1+Tabeller!$I$76)),0)+(IF($CV5="Forsker - professor",Tabeller!K$69*K5,0)+IF($CV5="Prosjektleder/adm.leder",Tabeller!K$68*K5,0)+IF($CV5="Forsker - 1.aman.",Tabeller!K$70*K5,0)+IF($CV5="Gjesteforsker",Tabeller!K$72*K5,0)+IF($CV5="Postdoktor / forsker",Tabeller!K$73*K5,0)+IF($CV5="Stipendiat",Tabeller!K$74*K5,0)+IF($CV5="Forsker (rundsum)",Tabeller!K$71*K5,0)+IF($CV5="Vit.ass",Tabeller!K$75*K5,0))/12)) -> 0 | CZ5: =-((IF($CV5="Teknisk/adm. bistand/Feltassistent",IF(Budsjett!AS5*(1+Tabeller!$I$76)>Tabeller!L$69,Tabeller!L$69,Budsjett!AS5*(1+Tabeller!$I$76)),0)+(IF($CV5="Forsker - professor",Tabeller!L$69*L5,0)+IF($CV5="Prosjektleder/adm.leder",Tabeller!L$68*L5,0)+IF($CV5="Forsker - 1.aman.",Tabeller!L$70*L5,0)+IF($CV5="Gjesteforsker",Tabeller!L$72*L5,0)+IF($CV5="Postdoktor / forsker",Tabeller!L$73*L5,0)+IF($CV5="Stipendiat",Tabeller!L$74*L5,0)+IF($CV5="Forsker (rundsum)",Tabeller!L$71*L5,0)+IF($CV5="Vit.ass",Tabeller!L$75*L5,0))/12)) -> 0 | DA5: =-((IF($CV5="Teknisk/adm. bistand/Feltassistent",IF(Budsjett!AT5*(1+Tabeller!$I$76)>Tabeller!M$69,Tabeller!M$69,Budsjett!AT5*(1+Tabeller!$I$76)),0)+(IF($CV5="Forsker - professor",Tabeller!M$69*M5,0)+IF($CV5="Prosjektleder/adm.leder",Tabeller!M$68*M5,0)+IF($CV5="Forsker - 1.aman.",Tabeller!M$70*M5,0)+IF($CV5="Gjesteforsker",Tabeller!M$72*M5,0)+IF($CV5="Postdoktor / forsker",Tabeller!M$73*M5,0)+IF($CV5="Stipendiat",Tabeller!M$74*M5,0)+IF($CV5="Forsker (rundsum)",Tabeller!M$71*M5,0)+IF($CV5="Vit.ass",Tabeller!M$75*M5,0))/12)) -> 0 | DB5: =-((IF($CV5="Teknisk/adm. bistand/Feltassistent",IF(Budsjett!AU5*(1+Tabeller!$I$76)>Tabeller!N$69,Tabeller!N$69,Budsjett!AU5*(1+Tabeller!$I$76)),0)+(IF($CV5="Forsker - professor",Tabeller!N$69*N5,0)+IF($CV5="Prosjektleder/adm.leder",Tabeller!N$68*N5,0)+IF($CV5="Forsker - 1.aman.",Tabeller!N$70*N5,0)+IF($CV5="Gjesteforsker",Tabeller!N$72*N5,0)+IF($CV5="Postdoktor / forsker",Tabeller!N$73*N5,0)+IF($CV5="Stipendiat",Tabeller!N$74*N5,0)+IF($CV5="Forsker (rundsum)",Tabeller!N$71*N5,0)+IF($CV5="Vit.ass",Tabeller!N$75*N5,0))/12)) -> 0 | DC5: =-((IF($CV5="Teknisk/adm. bistand/Feltassistent",IF(Budsjett!AV5*(1+Tabeller!$I$76)>Tabeller!O$69,Tabeller!O$69,Budsjett!AV5*(1+Tabeller!$I$76)),0)+(IF($CV5="Forsker - professor",Tabeller!O$69*O5,0)+IF($CV5="Prosjektleder/adm.leder",Tabeller!O$68*O5,0)+IF($CV5="Forsker - 1.aman.",Tabeller!O$70*O5,0)+IF($CV5="Gjesteforsker",Tabeller!O$72*O5,0)+IF($CV5="Postdoktor / forsker",Tabeller!O$73*O5,0)+IF($CV5="Stipendiat",Tabeller!O$74*O5,0)+IF($CV5="Forsker (rundsum)",Tabeller!O$71*O5,0)+IF($CV5="Vit.ass",Tabeller!O$75*O5,0))/12)) -> 0 | DD5: =-((IF($CV5="Teknisk/adm. bistand/Feltassistent",IF(Budsjett!AW5*(1+Tabeller!$I$76)>Tabeller!P$69,Tabeller!P$69,Budsjett!AW5*(1+Tabeller!$I$76)),0)+(IF($CV5="Forsker - professor",Tabeller!P$69*P5,0)+IF($CV5="Prosjektleder/adm.leder",Tabeller!P$68*P5,0)+IF($CV5="Forsker - 1.aman.",Tabeller!P$70*P5,0)+IF($CV5="Gjesteforsker",Tabeller!P$72*P5,0)+IF($CV5="Postdoktor / forsker",Tabeller!P$73*P5,0)+IF($CV5="Stipendiat",Tabeller!P$74*P5,0)+IF($CV5="Forsker (rundsum)",Tabeller!P$71*P5,0)+IF($CV5="Vit.ass",Tabeller!P$75*P5,0))/12)) -> 0 | ... DI5: =-((IF($CV5="Teknisk/adm. bistand/Feltassistent",IF(Budsjett!BB5*(1+Tabeller!$I$76)>Tabeller!U$69,Tabeller!U$69,Budsjett!BB5*(1+Tabeller!$I$76)),0)+(IF($CV5="Forsker - professor",Tabeller!U$69*U5,0)+IF($CV5="Prosjektleder/adm.leder",Tabeller!U$68*U5,0)+IF($CV5="Forsker - 1.aman.",Tabeller!U$70*U5,0)+IF($CV5="Gjesteforsker",Tabeller!U$72*U5,0)+IF($CV5="Postdoktor / forsker",Tabeller!U$73*U5,0)+IF($CV5="Stipendiat",Tabeller!U$74*U5,0)+IF($CV5="Forsker (rundsum)",Tabeller!U$71*U5,0)+IF($CV5="Vit.ass",Tabeller!U$75*U5,0))/12)) -> 0 | DJ5: =SUM(CW5:DI5) -> 0 | DM5: =CV5 -> 0 | DN5: =IF($F5="NFR",CW5,0) -> 0 | DO5: =IF($F5="NFR",CX5,0) -> 0 | DP5: =IF($F5="NFR",CY5,0) -> 0 | DQ5: =IF($F5="NFR",CZ5,0) -> 0 | DR5: =IF($F5="NFR",DA5,0) -> 0 | DS5: =IF($F5="NFR",DB5,0) -> 0 | DT5: =IF($F5="NFR",DC5,0) -> 0 | DU5: =IF($F5="NFR",DD5,0) -> 0 | ... DZ5: =IF($F5="NFR",DI5,0) -> 0 | EA5: =SUM(DN5:DZ5) -> 0 | EC5: =DM5 -> 0 | ED5: =IF($F5=$ED$1,CW5,0) -> 0 | EE5: =IF($F5=$ED$1,CX5,0) -> 0 | EF5: =IF($F5=$ED$1,CY5,0) -> 0 | EG5: =IF($F5=$ED$1,CZ5,0) -> 0 | EH5: =IF($F5=$ED$1,DA5,0) -> 0 | EI5: =IF($F5=$ED$1,DB5,0) -> 0 | EJ5: =IF($F5=$ED$1,DC5,0) -> 0 | EK5: =IF($F5=$ED$1,DD5,0) -> 0 | ... EP5: =IF($F5=$ED$1,DI5,0) -> 0 | EQ5: =SUM(ED5:EP5) -> 0 | ES5: =EC5 -> 0 | ET5: =IF($F5=$ET$1,CW5,0) -> 0 | EU5: =IF($F5=$ET$1,CX5,0) -> 0 | EV5: =IF($F5=$ET$1,CY5,0) -> 0 | EW5: =IF($F5=$ET$1,CZ5,0) -> 0 | EX5: =IF($F5=$ET$1,DA5,0) -> 0 | EY5: =IF($F5=$ET$1,DB5,0) -> 0 | EZ5: =IF($F5=$ET$1,DC5,0) -> 0 | FA5: =IF($F5=$ET$1,DD5,0) -> 0 | ... FF5: =IF($F5=$ET$1,DI5,0) -> 0 | FG5: =SUM(ET5:FF5) -> 0 | FI5: =ES5 -> 0 | FJ5: =IF($F5=$FJ$1,CW5,0) -> 0 | FK5: =IF($F5=$FJ$1,CX5,0) -> 0 | FL5: =IF($F5=$FJ$1,CY5,0) -> 0 | FM5: =IF($F5=$FJ$1,CZ5,0) -> 0 | FN5: =IF($F5=$FJ$1,DA5,0) -> 0 | FO5: =IF($F5=$FJ$1,DB5,0) -> 0 | FP5: =IF($F5=$FJ$1,DC5,0) -> 0 | FQ5: =IF($F5=$FJ$1,DD5,0) -> 0 | ... FV5: =IF($F5=$FJ$1,DI5,0) -> 0 | FW5: =SUM(FJ5:FV5) -> 0 | FZ5: =FI5 -> 0 | GN5: =SUM(GA5:GM5) -> 0 | GQ5: =IF(Registrering!$B$29="Prosjekter som foregår i UiOs lokaler",IF($B5="Teknisk/adm. bistand/Feltassistent",(I5/12)*Tabeller!J$11,(I5/12)*Tabeller!J$10),IF($B5="Teknisk/adm. bistand/Feltassistent",(I5/12)*Tabeller!J$13,(I5/12)*Tabeller!J$12)) -> 0 | GR5: =IF(Registrering!$B$29="Prosjekter som foregår i UiOs lokaler",IF($B5="Teknisk/adm. bistand/Feltassistent",(J5/12)*Tabeller!K$11,(J5/12)*Tabeller!K$10),IF($B5="Teknisk/adm. bistand/Feltassistent",(J5/12)*Tabeller!K$13,(J5/12)*Tabeller!K$12)) -> 0 | GS5: =IF(Registrering!$B$29="Prosjekter som foregår i UiOs lokaler",IF($B5="Teknisk/adm. bistand/Feltassistent",(K5/12)*Tabeller!L$11,(K5/12)*Tabeller!L$10),IF($B5="Teknisk/adm. bistand/Feltassistent",(K5/12)*Tabeller!L$13,(K5/12)*Tabeller!L$12)) -> 0 | GT5: =IF(Registrering!$B$29="Prosjekter som foregår i UiOs lokaler",IF($B5="Teknisk/adm. bistand/Feltassistent",(L5/12)*Tabeller!M$11,(L5/12)*Tabeller!M$10),IF($B5="Teknisk/adm. bistand/Feltassistent",(L5/12)*Tabeller!M$13,(L5/12)*Tabeller!M$12)) -> 0 | GU5: =IF(Registrering!$B$29="Prosjekter som foregår i UiOs lokaler",IF($B5="Teknisk/adm. bistand/Feltassistent",(M5/12)*Tabeller!N$11,(M5/12)*Tabeller!N$10),IF($B5="Teknisk/adm. bistand/Feltassistent",(M5/12)*Tabeller!N$13,(M5/12)*Tabeller!N$12)) -> 0 | GV5: =IF(Registrering!$B$29="Prosjekter som foregår i UiOs lokaler",IF($B5="Teknisk/adm. bistand/Feltassistent",(N5/12)*Tabeller!O$11,(N5/12)*Tabeller!O$10),IF($B5="Teknisk/adm. bistand/Feltassistent",(N5/12)*Tabeller!O$13,(N5/12)*Tabeller!O$12)) -> 0 | GW5: =IF(Registrering!$B$29="Prosjekter som foregår i UiOs lokaler",IF($B5="Teknisk/adm. bistand/Feltassistent",(O5/12)*Tabeller!P$11,(O5/12)*Tabeller!P$10),IF($B5="Teknisk/adm. bistand/Feltassistent",(O5/12)*Tabeller!P$13,(O5/12)*Tabeller!P$12)) -> 0 | GX5: =IF(Registrering!$B$29="Prosjekter som foregår i UiOs lokaler",IF($B5="Teknisk/adm. bistand/Feltassistent",(P5/12)*Tabeller!Q$11,(P5/12)*Tabeller!Q$10),IF($B5="Teknisk/adm. bistand/Feltassistent",(P5/12)*Tabeller!Q$13,(P5/12)*Tabeller!Q$12)) -> 0 | ... HC5: =IF(Registrering!$B$29="Prosjekter som foregår i UiOs lokaler",IF($B5="Teknisk/adm. bistand/Feltassistent",(U5/12)*Tabeller!V$11,(U5/12)*Tabeller!V$10),IF($B5="Teknisk/adm. bistand/Feltassistent",(U5/12)*Tabeller!V$13,(U5/12)*Tabeller!V$12)) -> 0
D6: =SUM(AP6:BB6) -> 0 | E6: =SUM(I6:U6)/12 -> 0 | AE6: =G6 -> 0 | AF6: =AE6*Tabeller!$I$49 -> 0 | AG6: =IF(AE6>0,(AF6-400)/52*47,0) -> 0 | AH6: =AG6*Tabeller!$H$40 -> 0 | AI6: =SUM(AG6:AH6,AJ6)*Tabeller!$H$42 -> 0 | AJ6: =AF6*Tabeller!$H$41 -> 0 | AK6: =SUM(AG6:AJ6) -> 0 | AL6: =AK6+(IF(B6="Teknisk adm bistand",Registrering!$E$51,Registrering!$B$51)) -> 0 | AM6: =AL6/Tabeller!$H$5 -> 0 | AP6: =((I6*Budsjett!$AK6))/12 -> 0 | AQ6: =((J6*Budsjett!$AK6)*(Tabeller!J$49))/12 -> 0 | AR6: =((K6*Budsjett!$AK6)*(Tabeller!K$49))/12 -> 0 | AS6: =((L6*Budsjett!$AK6)*(Tabeller!L$49))/12 -> 0 | AT6: =((M6*Budsjett!$AK6)*(Tabeller!M$49))/12 -> 0 | AU6: =((N6*Budsjett!$AK6)*(Tabeller!N$49))/12 -> 0 | AV6: =((O6*Budsjett!$AK6)*(Tabeller!O$49))/12 -> 0 | AW6: =((P6*Budsjett!$AK6)*(Tabeller!P$49))/12 -> 0 | AX6: =((Q6*Budsjett!$AK6)*(Tabeller!Q$49))/12 -> 0 | ... BB6: =((U6*Budsjett!$AK6)*(Tabeller!U$49))/12 -> 0 | BD6: =IFERROR(IF(#REF!>#REF!,BS6,GQ6),0) -> 0 | BE6: =IFERROR(IF(#REF!>#REF!,BT6,GR6),0) -> 0 | BF6: =IFERROR(IF(#REF!>#REF!,BU6,GS6),0) -> 0 | BG6: =IFERROR(IF(#REF!>#REF!,BV6,GT6),0) -> 0 | BH6: =IFERROR(IF(#REF!>#REF!,BW6,GU6),0) -> 0 | BI6: =IFERROR(IF(#REF!>#REF!,BX6,GV6),0) -> 0 | BJ6: =IFERROR(IF(#REF!>#REF!,BY6,GW6),0) -> 0 | BK6: =IFERROR(IF(#REF!>#REF!,BZ6,GX6),0) -> 0 | ... BP6: =IFERROR(IF(#REF!>#REF!,CE6,HC6),0) -> 0 | BS6: =IFERROR(IF(#REF!=#REF!,AP6*#REF!,AP6*Budsjett!#REF!),0) -> 0 | BT6: =IFERROR(IF(#REF!=#REF!,AQ6*#REF!,AQ6*Budsjett!#REF!),0) -> 0 | BU6: =IFERROR(IF(#REF!=#REF!,AR6*#REF!,AR6*Budsjett!#REF!),0) -> 0 | BV6: =IFERROR(IF(#REF!=#REF!,AS6*#REF!,AS6*Budsjett!#REF!),0) -> 0 | BW6: =IFERROR(IF(#REF!=#REF!,AT6*#REF!,AT6*Budsjett!#REF!),0) -> 0 | BX6: =IFERROR(IF(#REF!=#REF!,AU6*#REF!,AU6*Budsjett!#REF!),0) -> 0 | BY6: =IFERROR(IF(#REF!=#REF!,AV6*#REF!,AV6*Budsjett!#REF!),0) -> 0 | BZ6: =IFERROR(IF(#REF!=#REF!,AW6*#REF!,AW6*Budsjett!#REF!),0) -> 0 | ... CE6: =IFERROR(IF(#REF!=#REF!,BB6*#REF!,BB6*Budsjett!#REF!),0) -> 0 | CH6: =BD6-BS6 -> 0 | CI6: =BE6-BT6 -> 0 | CJ6: =BF6-BU6 -> 0 | CK6: =BG6-BV6 -> 0 | CL6: =BH6-BW6 -> 0 | CM6: =BI6-BX6 -> 0 | CN6: =BJ6-BY6 -> 0 | CO6: =BK6-BZ6 -> 0 | ... CT6: =BP6-CE6 -> 0 | CV6: =B6 -> 0 | CW6: =-((IF($CV6="Teknisk/adm. bistand/Feltassistent",IF(Budsjett!AP6*(1+Tabeller!$I$76)>Tabeller!I$69,Tabeller!I$69,Budsjett!AP6*(1+Tabeller!$I$76)),0)+(IF($CV6="Forsker - professor",Tabeller!I$69*I6,0)+IF($CV6="Prosjektleder/adm.leder",Tabeller!I$68*I6,0)+IF($CV6="Forsker - 1.aman.",Tabeller!I$70*I6,0)+IF($CV6="Gjesteforsker",Tabeller!I$72*I6,0)+IF($CV6="Postdoktor / forsker",Tabeller!I$73*I6,0)+IF($CV6="Stipendiat",Tabeller!I$74*I6,0)+IF($CV6="Forsker (rundsum)",Tabeller!I$71*I6,0)+IF($CV6="Vit.ass",Tabeller!I$75*I6,0))/12)) -> 0 | CX6: =-((IF($CV6="Teknisk/adm. bistand/Feltassistent",IF(Budsjett!AQ6*(1+Tabeller!$I$76)>Tabeller!J$69,Tabeller!J$69,Budsjett!AQ6*(1+Tabeller!$I$76)),0)+(IF($CV6="Forsker - professor",Tabeller!J$69*J6,0)+IF($CV6="Prosjektleder/adm.leder",Tabeller!J$68*J6,0)+IF($CV6="Forsker - 1.aman.",Tabeller!J$70*J6,0)+IF($CV6="Gjesteforsker",Tabeller!J$72*J6,0)+IF($CV6="Postdoktor / forsker",Tabeller!J$73*J6,0)+IF($CV6="Stipendiat",Tabeller!J$74*J6,0)+IF($CV6="Forsker (rundsum)",Tabeller!J$71*J6,0)+IF($CV6="Vit.ass",Tabeller!J$75*J6,0))/12)) -> 0 | CY6: =-((IF($CV6="Teknisk/adm. bistand/Feltassistent",IF(Budsjett!AR6*(1+Tabeller!$I$76)>Tabeller!K$69,Tabeller!K$69,Budsjett!AR6*(1+Tabeller!$I$76)),0)+(IF($CV6="Forsker - professor",Tabeller!K$69*K6,0)+IF($CV6="Prosjektleder/adm.leder",Tabeller!K$68*K6,0)+IF($CV6="Forsker - 1.aman.",Tabeller!K$70*K6,0)+IF($CV6="Gjesteforsker",Tabeller!K$72*K6,0)+IF($CV6="Postdoktor / forsker",Tabeller!K$73*K6,0)+IF($CV6="Stipendiat",Tabeller!K$74*K6,0)+IF($CV6="Forsker (rundsum)",Tabeller!K$71*K6,0)+IF($CV6="Vit.ass",Tabeller!K$75*K6,0))/12)) -> 0 | CZ6: =-((IF($CV6="Teknisk/adm. bistand/Feltassistent",IF(Budsjett!AS6*(1+Tabeller!$I$76)>Tabeller!L$69,Tabeller!L$69,Budsjett!AS6*(1+Tabeller!$I$76)),0)+(IF($CV6="Forsker - professor",Tabeller!L$69*L6,0)+IF($CV6="Prosjektleder/adm.leder",Tabeller!L$68*L6,0)+IF($CV6="Forsker - 1.aman.",Tabeller!L$70*L6,0)+IF($CV6="Gjesteforsker",Tabeller!L$72*L6,0)+IF($CV6="Postdoktor / forsker",Tabeller!L$73*L6,0)+IF($CV6="Stipendiat",Tabeller!L$74*L6,0)+IF($CV6="Forsker (rundsum)",Tabeller!L$71*L6,0)+IF($CV6="Vit.ass",Tabeller!L$75*L6,0))/12)) -> 0 | DA6: =-((IF($CV6="Teknisk/adm. bistand/Feltassistent",IF(Budsjett!AT6*(1+Tabeller!$I$76)>Tabeller!M$69,Tabeller!M$69,Budsjett!AT6*(1+Tabeller!$I$76)),0)+(IF($CV6="Forsker - professor",Tabeller!M$69*M6,0)+IF($CV6="Prosjektleder/adm.leder",Tabeller!M$68*M6,0)+IF($CV6="Forsker - 1.aman.",Tabeller!M$70*M6,0)+IF($CV6="Gjesteforsker",Tabeller!M$72*M6,0)+IF($CV6="Postdoktor / forsker",Tabeller!M$73*M6,0)+IF($CV6="Stipendiat",Tabeller!M$74*M6,0)+IF($CV6="Forsker (rundsum)",Tabeller!M$71*M6,0)+IF($CV6="Vit.ass",Tabeller!M$75*M6,0))/12)) -> 0 | DB6: =-((IF($CV6="Teknisk/adm. bistand/Feltassistent",IF(Budsjett!AU6*(1+Tabeller!$I$76)>Tabeller!N$69,Tabeller!N$69,Budsjett!AU6*(1+Tabeller!$I$76)),0)+(IF($CV6="Forsker - professor",Tabeller!N$69*N6,0)+IF($CV6="Prosjektleder/adm.leder",Tabeller!N$68*N6,0)+IF($CV6="Forsker - 1.aman.",Tabeller!N$70*N6,0)+IF($CV6="Gjesteforsker",Tabeller!N$72*N6,0)+IF($CV6="Postdoktor / forsker",Tabeller!N$73*N6,0)+IF($CV6="Stipendiat",Tabeller!N$74*N6,0)+IF($CV6="Forsker (rundsum)",Tabeller!N$71*N6,0)+IF($CV6="Vit.ass",Tabeller!N$75*N6,0))/12)) -> 0 | DC6: =-((IF($CV6="Teknisk/adm. bistand/Feltassistent",IF(Budsjett!AV6*(1+Tabeller!$I$76)>Tabeller!O$69,Tabeller!O$69,Budsjett!AV6*(1+Tabeller!$I$76)),0)+(IF($CV6="Forsker - professor",Tabeller!O$69*O6,0)+IF($CV6="Prosjektleder/adm.leder",Tabeller!O$68*O6,0)+IF($CV6="Forsker - 1.aman.",Tabeller!O$70*O6,0)+IF($CV6="Gjesteforsker",Tabeller!O$72*O6,0)+IF($CV6="Postdoktor / forsker",Tabeller!O$73*O6,0)+IF($CV6="Stipendiat",Tabeller!O$74*O6,0)+IF($CV6="Forsker (rundsum)",Tabeller!O$71*O6,0)+IF($CV6="Vit.ass",Tabeller!O$75*O6,0))/12)) -> 0 | DD6: =-((IF($CV6="Teknisk/adm. bistand/Feltassistent",IF(Budsjett!AW6*(1+Tabeller!$I$76)>Tabeller!P$69,Tabeller!P$69,Budsjett!AW6*(1+Tabeller!$I$76)),0)+(IF($CV6="Forsker - professor",Tabeller!P$69*P6,0)+IF($CV6="Prosjektleder/adm.leder",Tabeller!P$68*P6,0)+IF($CV6="Forsker - 1.aman.",Tabeller!P$70*P6,0)+IF($CV6="Gjesteforsker",Tabeller!P$72*P6,0)+IF($CV6="Postdoktor / forsker",Tabeller!P$73*P6,0)+IF($CV6="Stipendiat",Tabeller!P$74*P6,0)+IF($CV6="Forsker (rundsum)",Tabeller!P$71*P6,0)+IF($CV6="Vit.ass",Tabeller!P$75*P6,0))/12)) -> 0 | ... DI6: =-((IF($CV6="Teknisk/adm. bistand/Feltassistent",IF(Budsjett!BB6*(1+Tabeller!$I$76)>Tabeller!U$69,Tabeller!U$69,Budsjett!BB6*(1+Tabeller!$I$76)),0)+(IF($CV6="Forsker - professor",Tabeller!U$69*U6,0)+IF($CV6="Prosjektleder/adm.leder",Tabeller!U$68*U6,0)+IF($CV6="Forsker - 1.aman.",Tabeller!U$70*U6,0)+IF($CV6="Gjesteforsker",Tabeller!U$72*U6,0)+IF($CV6="Postdoktor / forsker",Tabeller!U$73*U6,0)+IF($CV6="Stipendiat",Tabeller!U$74*U6,0)+IF($CV6="Forsker (rundsum)",Tabeller!U$71*U6,0)+IF($CV6="Vit.ass",Tabeller!U$75*U6,0))/12)) -> 0 | DJ6: =SUM(CW6:DI6) -> 0 | DM6: =CV6 -> 0 | DN6: =IF($F6="NFR",CW6,0) -> 0 | DO6: =IF($F6="NFR",CX6,0) -> 0 | DP6: =IF($F6="NFR",CY6,0) -> 0 | DQ6: =IF($F6="NFR",CZ6,0) -> 0 | DR6: =IF($F6="NFR",DA6,0) -> 0 | DS6: =IF($F6="NFR",DB6,0) -> 0 | DT6: =IF($F6="NFR",DC6,0) -> 0 | DU6: =IF($F6="NFR",DD6,0) -> 0 | ... DZ6: =IF($F6="NFR",DI6,0) -> 0 | EA6: =SUM(DN6:DZ6) -> 0 | EC6: =DM6 -> 0 | ED6: =IF($F6=$ED$1,CW6,0) -> 0 | EE6: =IF($F6=$ED$1,CX6,0) -> 0 | EF6: =IF($F6=$ED$1,CY6,0) -> 0 | EG6: =IF($F6=$ED$1,CZ6,0) -> 0 | EH6: =IF($F6=$ED$1,DA6,0) -> 0 | EI6: =IF($F6=$ED$1,DB6,0) -> 0 | EJ6: =IF($F6=$ED$1,DC6,0) -> 0 | EK6: =IF($F6=$ED$1,DD6,0) -> 0 | ... EP6: =IF($F6=$ED$1,DI6,0) -> 0 | EQ6: =SUM(ED6:EP6) -> 0 | ES6: =EC6 -> 0 | ET6: =IF($F6=$ET$1,CW6,0) -> 0 | EU6: =IF($F6=$ET$1,CX6,0) -> 0 | EV6: =IF($F6=$ET$1,CY6,0) -> 0 | EW6: =IF($F6=$ET$1,CZ6,0) -> 0 | EX6: =IF($F6=$ET$1,DA6,0) -> 0 | EY6: =IF($F6=$ET$1,DB6,0) -> 0 | EZ6: =IF($F6=$ET$1,DC6,0) -> 0 | FA6: =IF($F6=$ET$1,DD6,0) -> 0 | ... FF6: =IF($F6=$ET$1,DI6,0) -> 0 | FG6: =SUM(ET6:FF6) -> 0 | FI6: =ES6 -> 0 | FJ6: =IF($F6=$FJ$1,CW6,0) -> 0 | FK6: =IF($F6=$FJ$1,CX6,0) -> 0 | FL6: =IF($F6=$FJ$1,CY6,0) -> 0 | FM6: =IF($F6=$FJ$1,CZ6,0) -> 0 | FN6: =IF($F6=$FJ$1,DA6,0) -> 0 | FO6: =IF($F6=$FJ$1,DB6,0) -> 0 | FP6: =IF($F6=$FJ$1,DC6,0) -> 0 | FQ6: =IF($F6=$FJ$1,DD6,0) -> 0 | ... FV6: =IF($F6=$FJ$1,DI6,0) -> 0 | FW6: =SUM(FJ6:FV6) -> 0 | FZ6: =FI6 -> 0 | GN6: =SUM(GA6:GM6) -> 0 | GQ6: =IF(Registrering!$B$29="Prosjekter som foregår i UiOs lokaler",IF($B6="Teknisk/adm. bistand/Feltassistent",(I6/12)*Tabeller!J$11,(I6/12)*Tabeller!J$10),IF($B6="Teknisk/adm. bistand/Feltassistent",(I6/12)*Tabeller!J$13,(I6/12)*Tabeller!J$12)) -> 0 | GR6: =IF(Registrering!$B$29="Prosjekter som foregår i UiOs lokaler",IF($B6="Teknisk/adm. bistand/Feltassistent",(J6/12)*Tabeller!K$11,(J6/12)*Tabeller!K$10),IF($B6="Teknisk/adm. bistand/Feltassistent",(J6/12)*Tabeller!K$13,(J6/12)*Tabeller!K$12)) -> 0 | GS6: =IF(Registrering!$B$29="Prosjekter som foregår i UiOs lokaler",IF($B6="Teknisk/adm. bistand/Feltassistent",(K6/12)*Tabeller!L$11,(K6/12)*Tabeller!L$10),IF($B6="Teknisk/adm. bistand/Feltassistent",(K6/12)*Tabeller!L$13,(K6/12)*Tabeller!L$12)) -> 0 | GT6: =IF(Registrering!$B$29="Prosjekter som foregår i UiOs lokaler",IF($B6="Teknisk/adm. bistand/Feltassistent",(L6/12)*Tabeller!M$11,(L6/12)*Tabeller!M$10),IF($B6="Teknisk/adm. bistand/Feltassistent",(L6/12)*Tabeller!M$13,(L6/12)*Tabeller!M$12)) -> 0 | GU6: =IF(Registrering!$B$29="Prosjekter som foregår i UiOs lokaler",IF($B6="Teknisk/adm. bistand/Feltassistent",(M6/12)*Tabeller!N$11,(M6/12)*Tabeller!N$10),IF($B6="Teknisk/adm. bistand/Feltassistent",(M6/12)*Tabeller!N$13,(M6/12)*Tabeller!N$12)) -> 0 | GV6: =IF(Registrering!$B$29="Prosjekter som foregår i UiOs lokaler",IF($B6="Teknisk/adm. bistand/Feltassistent",(N6/12)*Tabeller!O$11,(N6/12)*Tabeller!O$10),IF($B6="Teknisk/adm. bistand/Feltassistent",(N6/12)*Tabeller!O$13,(N6/12)*Tabeller!O$12)) -> 0 | GW6: =IF(Registrering!$B$29="Prosjekter som foregår i UiOs lokaler",IF($B6="Teknisk/adm. bistand/Feltassistent",(O6/12)*Tabeller!P$11,(O6/12)*Tabeller!P$10),IF($B6="Teknisk/adm. bistand/Feltassistent",(O6/12)*Tabeller!P$13,(O6/12)*Tabeller!P$12)) -> 0 | GX6: =IF(Registrering!$B$29="Prosjekter som foregår i UiOs lokaler",IF($B6="Teknisk/adm. bistand/Feltassistent",(P6/12)*Tabeller!Q$11,(P6/12)*Tabeller!Q$10),IF($B6="Teknisk/adm. bistand/Feltassistent",(P6/12)*Tabeller!Q$13,(P6/12)*Tabeller!Q$12)) -> 0 | ... HC6: =IF(Registrering!$B$29="Prosjekter som foregår i UiOs lokaler",IF($B6="Teknisk/adm. bistand/Feltassistent",(U6/12)*Tabeller!V$11,(U6/12)*Tabeller!V$10),IF($B6="Teknisk/adm. bistand/Feltassistent",(U6/12)*Tabeller!V$13,(U6/12)*Tabeller!V$12)) -> 0
D7: =SUM(AP7:BB7) -> 0 | E7: =SUM(I7:U7)/12 -> 0 | AE7: =G7 -> 0 | AF7: =AE7*Tabeller!$I$49 -> 0 | AG7: =IF(AE7>0,(AF7-400)/52*47,0) -> 0 | AH7: =AG7*Tabeller!$H$40 -> 0 | AI7: =SUM(AG7:AH7,AJ7)*Tabeller!$H$42 -> 0 | AJ7: =AF7*Tabeller!$H$41 -> 0 | AK7: =SUM(AG7:AJ7) -> 0 | AL7: =AK7+(IF(B7="Teknisk adm bistand",Registrering!$E$51,Registrering!$B$51)) -> 0 | AM7: =AL7/Tabeller!$H$5 -> 0 | AP7: =((I7*Budsjett!$AK7))/12 -> 0 | AQ7: =((J7*Budsjett!$AK7)*(Tabeller!J$49))/12 -> 0 | AR7: =((K7*Budsjett!$AK7)*(Tabeller!K$49))/12 -> 0 | AS7: =((L7*Budsjett!$AK7)*(Tabeller!L$49))/12 -> 0 | AT7: =((M7*Budsjett!$AK7)*(Tabeller!M$49))/12 -> 0 | AU7: =((N7*Budsjett!$AK7)*(Tabeller!N$49))/12 -> 0 | AV7: =((O7*Budsjett!$AK7)*(Tabeller!O$49))/12 -> 0 | AW7: =((P7*Budsjett!$AK7)*(Tabeller!P$49))/12 -> 0 | AX7: =((Q7*Budsjett!$AK7)*(Tabeller!Q$49))/12 -> 0 | ... BB7: =((U7*Budsjett!$AK7)*(Tabeller!U$49))/12 -> 0 | BD7: =IFERROR(IF(#REF!>#REF!,BS7,GQ7),0) -> 0 | BE7: =IFERROR(IF(#REF!>#REF!,BT7,GR7),0) -> 0 | BF7: =IFERROR(IF(#REF!>#REF!,BU7,GS7),0) -> 0 | BG7: =IFERROR(IF(#REF!>#REF!,BV7,GT7),0) -> 0 | BH7: =IFERROR(IF(#REF!>#REF!,BW7,GU7),0) -> 0 | BI7: =IFERROR(IF(#REF!>#REF!,BX7,GV7),0) -> 0 | BJ7: =IFERROR(IF(#REF!>#REF!,BY7,GW7),0) -> 0 | BK7: =IFERROR(IF(#REF!>#REF!,BZ7,GX7),0) -> 0 | ... BP7: =IFERROR(IF(#REF!>#REF!,CE7,HC7),0) -> 0 | BS7: =IFERROR(IF(#REF!=#REF!,AP7*#REF!,AP7*Budsjett!#REF!),0) -> 0 | BT7: =IFERROR(IF(#REF!=#REF!,AQ7*#REF!,AQ7*Budsjett!#REF!),0) -> 0 | BU7: =IFERROR(IF(#REF!=#REF!,AR7*#REF!,AR7*Budsjett!#REF!),0) -> 0 | BV7: =IFERROR(IF(#REF!=#REF!,AS7*#REF!,AS7*Budsjett!#REF!),0) -> 0 | BW7: =IFERROR(IF(#REF!=#REF!,AT7*#REF!,AT7*Budsjett!#REF!),0) -> 0 | BX7: =IFERROR(IF(#REF!=#REF!,AU7*#REF!,AU7*Budsjett!#REF!),0) -> 0 | BY7: =IFERROR(IF(#REF!=#REF!,AV7*#REF!,AV7*Budsjett!#REF!),0) -> 0 | BZ7: =IFERROR(IF(#REF!=#REF!,AW7*#REF!,AW7*Budsjett!#REF!),0) -> 0 | ... CE7: =IFERROR(IF(#REF!=#REF!,BB7*#REF!,BB7*Budsjett!#REF!),0) -> 0 | CH7: =BD7-BS7 -> 0 | CI7: =BE7-BT7 -> 0 | CJ7: =BF7-BU7 -> 0 | CK7: =BG7-BV7 -> 0 | CL7: =BH7-BW7 -> 0 | CM7: =BI7-BX7 -> 0 | CN7: =BJ7-BY7 -> 0 | CO7: =BK7-BZ7 -> 0 | ... CT7: =BP7-CE7 -> 0 | CV7: =B7 -> 0 | CW7: =-((IF($CV7="Teknisk/adm. bistand/Feltassistent",IF(Budsjett!AP7*(1+Tabeller!$I$76)>Tabeller!I$69,Tabeller!I$69,Budsjett!AP7*(1+Tabeller!$I$76)),0)+(IF($CV7="Forsker - professor",Tabeller!I$69*I7,0)+IF($CV7="Prosjektleder/adm.leder",Tabeller!I$68*I7,0)+IF($CV7="Forsker - 1.aman.",Tabeller!I$70*I7,0)+IF($CV7="Gjesteforsker",Tabeller!I$72*I7,0)+IF($CV7="Postdoktor / forsker",Tabeller!I$73*I7,0)+IF($CV7="Stipendiat",Tabeller!I$74*I7,0)+IF($CV7="Forsker (rundsum)",Tabeller!I$71*I7,0)+IF($CV7="Vit.ass",Tabeller!I$75*I7,0))/12)) -> 0 | CX7: =-((IF($CV7="Teknisk/adm. bistand/Feltassistent",IF(Budsjett!AQ7*(1+Tabeller!$I$76)>Tabeller!J$69,Tabeller!J$69,Budsjett!AQ7*(1+Tabeller!$I$76)),0)+(IF($CV7="Forsker - professor",Tabeller!J$69*J7,0)+IF($CV7="Prosjektleder/adm.leder",Tabeller!J$68*J7,0)+IF($CV7="Forsker - 1.aman.",Tabeller!J$70*J7,0)+IF($CV7="Gjesteforsker",Tabeller!J$72*J7,0)+IF($CV7="Postdoktor / forsker",Tabeller!J$73*J7,0)+IF($CV7="Stipendiat",Tabeller!J$74*J7,0)+IF($CV7="Forsker (rundsum)",Tabeller!J$71*J7,0)+IF($CV7="Vit.ass",Tabeller!J$75*J7,0))/12)) -> 0 | CY7: =-((IF($CV7="Teknisk/adm. bistand/Feltassistent",IF(Budsjett!AR7*(1+Tabeller!$I$76)>Tabeller!K$69,Tabeller!K$69,Budsjett!AR7*(1+Tabeller!$I$76)),0)+(IF($CV7="Forsker - professor",Tabeller!K$69*K7,0)+IF($CV7="Prosjektleder/adm.leder",Tabeller!K$68*K7,0)+IF($CV7="Forsker - 1.aman.",Tabeller!K$70*K7,0)+IF($CV7="Gjesteforsker",Tabeller!K$72*K7,0)+IF($CV7="Postdoktor / forsker",Tabeller!K$73*K7,0)+IF($CV7="Stipendiat",Tabeller!K$74*K7,0)+IF($CV7="Forsker (rundsum)",Tabeller!K$71*K7,0)+IF($CV7="Vit.ass",Tabeller!K$75*K7,0))/12)) -> 0 | CZ7: =-((IF($CV7="Teknisk/adm. bistand/Feltassistent",IF(Budsjett!AS7*(1+Tabeller!$I$76)>Tabeller!L$69,Tabeller!L$69,Budsjett!AS7*(1+Tabeller!$I$76)),0)+(IF($CV7="Forsker - professor",Tabeller!L$69*L7,0)+IF($CV7="Prosjektleder/adm.leder",Tabeller!L$68*L7,0)+IF($CV7="Forsker - 1.aman.",Tabeller!L$70*L7,0)+IF($CV7="Gjesteforsker",Tabeller!L$72*L7,0)+IF($CV7="Postdoktor / forsker",Tabeller!L$73*L7,0)+IF($CV7="Stipendiat",Tabeller!L$74*L7,0)+IF($CV7="Forsker (rundsum)",Tabeller!L$71*L7,0)+IF($CV7="Vit.ass",Tabeller!L$75*L7,0))/12)) -> 0 | DA7: =-((IF($CV7="Teknisk/adm. bistand/Feltassistent",IF(Budsjett!AT7*(1+Tabeller!$I$76)>Tabeller!M$69,Tabeller!M$69,Budsjett!AT7*(1+Tabeller!$I$76)),0)+(IF($CV7="Forsker - professor",Tabeller!M$69*M7,0)+IF($CV7="Prosjektleder/adm.leder",Tabeller!M$68*M7,0)+IF($CV7="Forsker - 1.aman.",Tabeller!M$70*M7,0)+IF($CV7="Gjesteforsker",Tabeller!M$72*M7,0)+IF($CV7="Postdoktor / forsker",Tabeller!M$73*M7,0)+IF($CV7="Stipendiat",Tabeller!M$74*M7,0)+IF($CV7="Forsker (rundsum)",Tabeller!M$71*M7,0)+IF($CV7="Vit.ass",Tabeller!M$75*M7,0))/12)) -> 0 | DB7: =-((IF($CV7="Teknisk/adm. bistand/Feltassistent",IF(Budsjett!AU7*(1+Tabeller!$I$76)>Tabeller!N$69,Tabeller!N$69,Budsjett!AU7*(1+Tabeller!$I$76)),0)+(IF($CV7="Forsker - professor",Tabeller!N$69*N7,0)+IF($CV7="Prosjektleder/adm.leder",Tabeller!N$68*N7,0)+IF($CV7="Forsker - 1.aman.",Tabeller!N$70*N7,0)+IF($CV7="Gjesteforsker",Tabeller!N$72*N7,0)+IF($CV7="Postdoktor / forsker",Tabeller!N$73*N7,0)+IF($CV7="Stipendiat",Tabeller!N$74*N7,0)+IF($CV7="Forsker (rundsum)",Tabeller!N$71*N7,0)+IF($CV7="Vit.ass",Tabeller!N$75*N7,0))/12)) -> 0 | DC7: =-((IF($CV7="Teknisk/adm. bistand/Feltassistent",IF(Budsjett!AV7*(1+Tabeller!$I$76)>Tabeller!O$69,Tabeller!O$69,Budsjett!AV7*(1+Tabeller!$I$76)),0)+(IF($CV7="Forsker - professor",Tabeller!O$69*O7,0)+IF($CV7="Prosjektleder/adm.leder",Tabeller!O$68*O7,0)+IF($CV7="Forsker - 1.aman.",Tabeller!O$70*O7,0)+IF($CV7="Gjesteforsker",Tabeller!O$72*O7,0)+IF($CV7="Postdoktor / forsker",Tabeller!O$73*O7,0)+IF($CV7="Stipendiat",Tabeller!O$74*O7,0)+IF($CV7="Forsker (rundsum)",Tabeller!O$71*O7,0)+IF($CV7="Vit.ass",Tabeller!O$75*O7,0))/12)) -> 0 | DD7: =-((IF($CV7="Teknisk/adm. bistand/Feltassistent",IF(Budsjett!AW7*(1+Tabeller!$I$76)>Tabeller!P$69,Tabeller!P$69,Budsjett!AW7*(1+Tabeller!$I$76)),0)+(IF($CV7="Forsker - professor",Tabeller!P$69*P7,0)+IF($CV7="Prosjektleder/adm.leder",Tabeller!P$68*P7,0)+IF($CV7="Forsker - 1.aman.",Tabeller!P$70*P7,0)+IF($CV7="Gjesteforsker",Tabeller!P$72*P7,0)+IF($CV7="Postdoktor / forsker",Tabeller!P$73*P7,0)+IF($CV7="Stipendiat",Tabeller!P$74*P7,0)+IF($CV7="Forsker (rundsum)",Tabeller!P$71*P7,0)+IF($CV7="Vit.ass",Tabeller!P$75*P7,0))/12)) -> 0 | ... DI7: =-((IF($CV7="Teknisk/adm. bistand/Feltassistent",IF(Budsjett!BB7*(1+Tabeller!$I$76)>Tabeller!U$69,Tabeller!U$69,Budsjett!BB7*(1+Tabeller!$I$76)),0)+(IF($CV7="Forsker - professor",Tabeller!U$69*U7,0)+IF($CV7="Prosjektleder/adm.leder",Tabeller!U$68*U7,0)+IF($CV7="Forsker - 1.aman.",Tabeller!U$70*U7,0)+IF($CV7="Gjesteforsker",Tabeller!U$72*U7,0)+IF($CV7="Postdoktor / forsker",Tabeller!U$73*U7,0)+IF($CV7="Stipendiat",Tabeller!U$74*U7,0)+IF($CV7="Forsker (rundsum)",Tabeller!U$71*U7,0)+IF($CV7="Vit.ass",Tabeller!U$75*U7,0))/12)) -> 0 | DJ7: =SUM(CW7:DI7) -> 0 | DM7: =CV7 -> 0 | DN7: =IF($F7="NFR",CW7,0) -> 0 | DO7: =IF($F7="NFR",CX7,0) -> 0 | DP7: =IF($F7="NFR",CY7,0) -> 0 | DQ7: =IF($F7="NFR",CZ7,0) -> 0 | DR7: =IF($F7="NFR",DA7,0) -> 0 | DS7: =IF($F7="NFR",DB7,0) -> 0 | DT7: =IF($F7="NFR",DC7,0) -> 0 | DU7: =IF($F7="NFR",DD7,0) -> 0 | ... DZ7: =IF($F7="NFR",DI7,0) -> 0 | EA7: =SUM(DN7:DZ7) -> 0 | EC7: =DM7 -> 0 | ED7: =IF($F7=$ED$1,CW7,0) -> 0 | EE7: =IF($F7=$ED$1,CX7,0) -> 0 | EF7: =IF($F7=$ED$1,CY7,0) -> 0 | EG7: =IF($F7=$ED$1,CZ7,0) -> 0 | EH7: =IF($F7=$ED$1,DA7,0) -> 0 | EI7: =IF($F7=$ED$1,DB7,0) -> 0 | EJ7: =IF($F7=$ED$1,DC7,0) -> 0 | EK7: =IF($F7=$ED$1,DD7,0) -> 0 | ... EP7: =IF($F7=$ED$1,DI7,0) -> 0 | EQ7: =SUM(ED7:EP7) -> 0 | ES7: =EC7 -> 0 | ET7: =IF($F7=$ET$1,CW7,0) -> 0 | EU7: =IF($F7=$ET$1,CX7,0) -> 0 | EV7: =IF($F7=$ET$1,CY7,0) -> 0 | EW7: =IF($F7=$ET$1,CZ7,0) -> 0 | EX7: =IF($F7=$ET$1,DA7,0) -> 0 | EY7: =IF($F7=$ET$1,DB7,0) -> 0 | EZ7: =IF($F7=$ET$1,DC7,0) -> 0 | FA7: =IF($F7=$ET$1,DD7,0) -> 0 | ... FF7: =IF($F7=$ET$1,DI7,0) -> 0 | FG7: =SUM(ET7:FF7) -> 0 | FI7: =ES7 -> 0 | FJ7: =IF($F7=$FJ$1,CW7,0) -> 0 | FK7: =IF($F7=$FJ$1,CX7,0) -> 0 | FL7: =IF($F7=$FJ$1,CY7,0) -> 0 | FM7: =IF($F7=$FJ$1,CZ7,0) -> 0 | FN7: =IF($F7=$FJ$1,DA7,0) -> 0 | FO7: =IF($F7=$FJ$1,DB7,0) -> 0 | FP7: =IF($F7=$FJ$1,DC7,0) -> 0 | FQ7: =IF($F7=$FJ$1,DD7,0) -> 0 | ... FV7: =IF($F7=$FJ$1,DI7,0) -> 0 | FW7: =SUM(FJ7:FV7) -> 0 | FZ7: =FI7 -> 0 | GN7: =SUM(GA7:GM7) -> 0 | GQ7: =IF(Registrering!$B$29="Prosjekter som foregår i UiOs lokaler",IF($B7="Teknisk/adm. bistand/Feltassistent",(I7/12)*Tabeller!J$11,(I7/12)*Tabeller!J$10),IF($B7="Teknisk/adm. bistand/Feltassistent",(I7/12)*Tabeller!J$13,(I7/12)*Tabeller!J$12)) -> 0 | GR7: =IF(Registrering!$B$29="Prosjekter som foregår i UiOs lokaler",IF($B7="Teknisk/adm. bistand/Feltassistent",(J7/12)*Tabeller!K$11,(J7/12)*Tabeller!K$10),IF($B7="Teknisk/adm. bistand/Feltassistent",(J7/12)*Tabeller!K$13,(J7/12)*Tabeller!K$12)) -> 0 | GS7: =IF(Registrering!$B$29="Prosjekter som foregår i UiOs lokaler",IF($B7="Teknisk/adm. bistand/Feltassistent",(K7/12)*Tabeller!L$11,(K7/12)*Tabeller!L$10),IF($B7="Teknisk/adm. bistand/Feltassistent",(K7/12)*Tabeller!L$13,(K7/12)*Tabeller!L$12)) -> 0 | GT7: =IF(Registrering!$B$29="Prosjekter som foregår i UiOs lokaler",IF($B7="Teknisk/adm. bistand/Feltassistent",(L7/12)*Tabeller!M$11,(L7/12)*Tabeller!M$10),IF($B7="Teknisk/adm. bistand/Feltassistent",(L7/12)*Tabeller!M$13,(L7/12)*Tabeller!M$12)) -> 0 | GU7: =IF(Registrering!$B$29="Prosjekter som foregår i UiOs lokaler",IF($B7="Teknisk/adm. bistand/Feltassistent",(M7/12)*Tabeller!N$11,(M7/12)*Tabeller!N$10),IF($B7="Teknisk/adm. bistand/Feltassistent",(M7/12)*Tabeller!N$13,(M7/12)*Tabeller!N$12)) -> 0 | GV7: =IF(Registrering!$B$29="Prosjekter som foregår i UiOs lokaler",IF($B7="Teknisk/adm. bistand/Feltassistent",(N7/12)*Tabeller!O$11,(N7/12)*Tabeller!O$10),IF($B7="Teknisk/adm. bistand/Feltassistent",(N7/12)*Tabeller!O$13,(N7/12)*Tabeller!O$12)) -> 0 | GW7: =IF(Registrering!$B$29="Prosjekter som foregår i UiOs lokaler",IF($B7="Teknisk/adm. bistand/Feltassistent",(O7/12)*Tabeller!P$11,(O7/12)*Tabeller!P$10),IF($B7="Teknisk/adm. bistand/Feltassistent",(O7/12)*Tabeller!P$13,(O7/12)*Tabeller!P$12)) -> 0 | GX7: =IF(Registrering!$B$29="Prosjekter som foregår i UiOs lokaler",IF($B7="Teknisk/adm. bistand/Feltassistent",(P7/12)*Tabeller!Q$11,(P7/12)*Tabeller!Q$10),IF($B7="Teknisk/adm. bistand/Feltassistent",(P7/12)*Tabeller!Q$13,(P7/12)*Tabeller!Q$12)) -> 0 | ... HC7: =IF(Registrering!$B$29="Prosjekter som foregår i UiOs lokaler",IF($B7="Teknisk/adm. bistand/Feltassistent",(U7/12)*Tabeller!V$11,(U7/12)*Tabeller!V$10),IF($B7="Teknisk/adm. bistand/Feltassistent",(U7/12)*Tabeller!V$13,(U7/12)*Tabeller!V$12)) -> 0
D8: =SUM(AP8:BB8) -> 0 | E8: =SUM(I8:U8)/12 -> 0 | AE8: =G8 -> 0 | AF8: =AE8*Tabeller!$I$49 -> 0 | AG8: =IF(AE8>0,(AF8-400)/52*47,0) -> 0 | AH8: =AG8*Tabeller!$H$40 -> 0 | AI8: =SUM(AG8:AH8,AJ8)*Tabeller!$H$42 -> 0 | AJ8: =AF8*Tabeller!$H$41 -> 0 | AK8: =SUM(AG8:AJ8) -> 0 | AL8: =AK8+(IF(B8="Teknisk adm bistand",Registrering!$E$51,Registrering!$B$51)) -> 0 | AM8: =AL8/Tabeller!$H$5 -> 0 | AP8: =((I8*Budsjett!$AK8))/12 -> 0 | AQ8: =((J8*Budsjett!$AK8)*(Tabeller!J$49))/12 -> 0 | AR8: =((K8*Budsjett!$AK8)*(Tabeller!K$49))/12 -> 0 | AS8: =((L8*Budsjett!$AK8)*(Tabeller!L$49))/12 -> 0 | AT8: =((M8*Budsjett!$AK8)*(Tabeller!M$49))/12 -> 0 | AU8: =((N8*Budsjett!$AK8)*(Tabeller!N$49))/12 -> 0 | AV8: =((O8*Budsjett!$AK8)*(Tabeller!O$49))/12 -> 0 | AW8: =((P8*Budsjett!$AK8)*(Tabeller!P$49))/12 -> 0 | AX8: =((Q8*Budsjett!$AK8)*(Tabeller!Q$49))/12 -> 0 | ... BB8: =((U8*Budsjett!$AK8)*(Tabeller!U$49))/12 -> 0 | BD8: =IFERROR(IF(#REF!>#REF!,BS8,GQ8),0) -> 0 | BE8: =IFERROR(IF(#REF!>#REF!,BT8,GR8),0) -> 0 | BF8: =IFERROR(IF(#REF!>#REF!,BU8,GS8),0) -> 0 | BG8: =IFERROR(IF(#REF!>#REF!,BV8,GT8),0) -> 0 | BH8: =IFERROR(IF(#REF!>#REF!,BW8,GU8),0) -> 0 | BI8: =IFERROR(IF(#REF!>#REF!,BX8,GV8),0) -> 0 | BJ8: =IFERROR(IF(#REF!>#REF!,BY8,GW8),0) -> 0 | BK8: =IFERROR(IF(#REF!>#REF!,BZ8,GX8),0) -> 0 | ... BP8: =IFERROR(IF(#REF!>#REF!,CE8,HC8),0) -> 0 | BS8: =IFERROR(IF(#REF!=#REF!,AP8*#REF!,AP8*Budsjett!#REF!),0) -> 0 | BT8: =IFERROR(IF(#REF!=#REF!,AQ8*#REF!,AQ8*Budsjett!#REF!),0) -> 0 | BU8: =IFERROR(IF(#REF!=#REF!,AR8*#REF!,AR8*Budsjett!#REF!),0) -> 0 | BV8: =IFERROR(IF(#REF!=#REF!,AS8*#REF!,AS8*Budsjett!#REF!),0) -> 0 | BW8: =IFERROR(IF(#REF!=#REF!,AT8*#REF!,AT8*Budsjett!#REF!),0) -> 0 | BX8: =IFERROR(IF(#REF!=#REF!,AU8*#REF!,AU8*Budsjett!#REF!),0) -> 0 | BY8: =IFERROR(IF(#REF!=#REF!,AV8*#REF!,AV8*Budsjett!#REF!),0) -> 0 | BZ8: =IFERROR(IF(#REF!=#REF!,AW8*#REF!,AW8*Budsjett!#REF!),0) -> 0 | ... CE8: =IFERROR(IF(#REF!=#REF!,BB8*#REF!,BB8*Budsjett!#REF!),0) -> 0 | CH8: =BD8-BS8 -> 0 | CI8: =BE8-BT8 -> 0 | CJ8: =BF8-BU8 -> 0 | CK8: =BG8-BV8 -> 0 | CL8: =BH8-BW8 -> 0 | CM8: =BI8-BX8 -> 0 | CN8: =BJ8-BY8 -> 0 | CO8: =BK8-BZ8 -> 0 | ... CT8: =BP8-CE8 -> 0 | CV8: =B8 -> 0 | CW8: =-((IF($CV8="Teknisk/adm. bistand/Feltassistent",IF(Budsjett!AP8*(1+Tabeller!$I$76)>Tabeller!I$69,Tabeller!I$69,Budsjett!AP8*(1+Tabeller!$I$76)),0)+(IF($CV8="Forsker - professor",Tabeller!I$69*I8,0)+IF($CV8="Prosjektleder/adm.leder",Tabeller!I$68*I8,0)+IF($CV8="Forsker - 1.aman.",Tabeller!I$70*I8,0)+IF($CV8="Gjesteforsker",Tabeller!I$72*I8,0)+IF($CV8="Postdoktor / forsker",Tabeller!I$73*I8,0)+IF($CV8="Stipendiat",Tabeller!I$74*I8,0)+IF($CV8="Forsker (rundsum)",Tabeller!I$71*I8,0)+IF($CV8="Vit.ass",Tabeller!I$75*I8,0))/12)) -> 0 | CX8: =-((IF($CV8="Teknisk/adm. bistand/Feltassistent",IF(Budsjett!AQ8*(1+Tabeller!$I$76)>Tabeller!J$69,Tabeller!J$69,Budsjett!AQ8*(1+Tabeller!$I$76)),0)+(IF($CV8="Forsker - professor",Tabeller!J$69*J8,0)+IF($CV8="Prosjektleder/adm.leder",Tabeller!J$68*J8,0)+IF($CV8="Forsker - 1.aman.",Tabeller!J$70*J8,0)+IF($CV8="Gjesteforsker",Tabeller!J$72*J8,0)+IF($CV8="Postdoktor / forsker",Tabeller!J$73*J8,0)+IF($CV8="Stipendiat",Tabeller!J$74*J8,0)+IF($CV8="Forsker (rundsum)",Tabeller!J$71*J8,0)+IF($CV8="Vit.ass",Tabeller!J$75*J8,0))/12)) -> 0 | CY8: =-((IF($CV8="Teknisk/adm. bistand/Feltassistent",IF(Budsjett!AR8*(1+Tabeller!$I$76)>Tabeller!K$69,Tabeller!K$69,Budsjett!AR8*(1+Tabeller!$I$76)),0)+(IF($CV8="Forsker - professor",Tabeller!K$69*K8,0)+IF($CV8="Prosjektleder/adm.leder",Tabeller!K$68*K8,0)+IF($CV8="Forsker - 1.aman.",Tabeller!K$70*K8,0)+IF($CV8="Gjesteforsker",Tabeller!K$72*K8,0)+IF($CV8="Postdoktor / forsker",Tabeller!K$73*K8,0)+IF($CV8="Stipendiat",Tabeller!K$74*K8,0)+IF($CV8="Forsker (rundsum)",Tabeller!K$71*K8,0)+IF($CV8="Vit.ass",Tabeller!K$75*K8,0))/12)) -> 0 | CZ8: =-((IF($CV8="Teknisk/adm. bistand/Feltassistent",IF(Budsjett!AS8*(1+Tabeller!$I$76)>Tabeller!L$69,Tabeller!L$69,Budsjett!AS8*(1+Tabeller!$I$76)),0)+(IF($CV8="Forsker - professor",Tabeller!L$69*L8,0)+IF($CV8="Prosjektleder/adm.leder",Tabeller!L$68*L8,0)+IF($CV8="Forsker - 1.aman.",Tabeller!L$70*L8,0)+IF($CV8="Gjesteforsker",Tabeller!L$72*L8,0)+IF($CV8="Postdoktor / forsker",Tabeller!L$73*L8,0)+IF($CV8="Stipendiat",Tabeller!L$74*L8,0)+IF($CV8="Forsker (rundsum)",Tabeller!L$71*L8,0)+IF($CV8="Vit.ass",Tabeller!L$75*L8,0))/12)) -> 0 | DA8: =-((IF($CV8="Teknisk/adm. bistand/Feltassistent",IF(Budsjett!AT8*(1+Tabeller!$I$76)>Tabeller!M$69,Tabeller!M$69,Budsjett!AT8*(1+Tabeller!$I$76)),0)+(IF($CV8="Forsker - professor",Tabeller!M$69*M8,0)+IF($CV8="Prosjektleder/adm.leder",Tabeller!M$68*M8,0)+IF($CV8="Forsker - 1.aman.",Tabeller!M$70*M8,0)+IF($CV8="Gjesteforsker",Tabeller!M$72*M8,0)+IF($CV8="Postdoktor / forsker",Tabeller!M$73*M8,0)+IF($CV8="Stipendiat",Tabeller!M$74*M8,0)+IF($CV8="Forsker (rundsum)",Tabeller!M$71*M8,0)+IF($CV8="Vit.ass",Tabeller!M$75*M8,0))/12)) -> 0 | DB8: =-((IF($CV8="Teknisk/adm. bistand/Feltassistent",IF(Budsjett!AU8*(1+Tabeller!$I$76)>Tabeller!N$69,Tabeller!N$69,Budsjett!AU8*(1+Tabeller!$I$76)),0)+(IF($CV8="Forsker - professor",Tabeller!N$69*N8,0)+IF($CV8="Prosjektleder/adm.leder",Tabeller!N$68*N8,0)+IF($CV8="Forsker - 1.aman.",Tabeller!N$70*N8,0)+IF($CV8="Gjesteforsker",Tabeller!N$72*N8,0)+IF($CV8="Postdoktor / forsker",Tabeller!N$73*N8,0)+IF($CV8="Stipendiat",Tabeller!N$74*N8,0)+IF($CV8="Forsker (rundsum)",Tabeller!N$71*N8,0)+IF($CV8="Vit.ass",Tabeller!N$75*N8,0))/12)) -> 0 | DC8: =-((IF($CV8="Teknisk/adm. bistand/Feltassistent",IF(Budsjett!AV8*(1+Tabeller!$I$76)>Tabeller!O$69,Tabeller!O$69,Budsjett!AV8*(1+Tabeller!$I$76)),0)+(IF($CV8="Forsker - professor",Tabeller!O$69*O8,0)+IF($CV8="Prosjektleder/adm.leder",Tabeller!O$68*O8,0)+IF($CV8="Forsker - 1.aman.",Tabeller!O$70*O8,0)+IF($CV8="Gjesteforsker",Tabeller!O$72*O8,0)+IF($CV8="Postdoktor / forsker",Tabeller!O$73*O8,0)+IF($CV8="Stipendiat",Tabeller!O$74*O8,0)+IF($CV8="Forsker (rundsum)",Tabeller!O$71*O8,0)+IF($CV8="Vit.ass",Tabeller!O$75*O8,0))/12)) -> 0 | DD8: =-((IF($CV8="Teknisk/adm. bistand/Feltassistent",IF(Budsjett!AW8*(1+Tabeller!$I$76)>Tabeller!P$69,Tabeller!P$69,Budsjett!AW8*(1+Tabeller!$I$76)),0)+(IF($CV8="Forsker - professor",Tabeller!P$69*P8,0)+IF($CV8="Prosjektleder/adm.leder",Tabeller!P$68*P8,0)+IF($CV8="Forsker - 1.aman.",Tabeller!P$70*P8,0)+IF($CV8="Gjesteforsker",Tabeller!P$72*P8,0)+IF($CV8="Postdoktor / forsker",Tabeller!P$73*P8,0)+IF($CV8="Stipendiat",Tabeller!P$74*P8,0)+IF($CV8="Forsker (rundsum)",Tabeller!P$71*P8,0)+IF($CV8="Vit.ass",Tabeller!P$75*P8,0))/12)) -> 0 | ... DI8: =-((IF($CV8="Teknisk/adm. bistand/Feltassistent",IF(Budsjett!BB8*(1+Tabeller!$I$76)>Tabeller!U$69,Tabeller!U$69,Budsjett!BB8*(1+Tabeller!$I$76)),0)+(IF($CV8="Forsker - professor",Tabeller!U$69*U8,0)+IF($CV8="Prosjektleder/adm.leder",Tabeller!U$68*U8,0)+IF($CV8="Forsker - 1.aman.",Tabeller!U$70*U8,0)+IF($CV8="Gjesteforsker",Tabeller!U$72*U8,0)+IF($CV8="Postdoktor / forsker",Tabeller!U$73*U8,0)+IF($CV8="Stipendiat",Tabeller!U$74*U8,0)+IF($CV8="Forsker (rundsum)",Tabeller!U$71*U8,0)+IF($CV8="Vit.ass",Tabeller!U$75*U8,0))/12)) -> 0 | DJ8: =SUM(CW8:DI8) -> 0 | DM8: =CV8 -> 0 | DN8: =IF($F8="NFR",CW8,0) -> 0 | DO8: =IF($F8="NFR",CX8,0) -> 0 | DP8: =IF($F8="NFR",CY8,0) -> 0 | DQ8: =IF($F8="NFR",CZ8,0) -> 0 | DR8: =IF($F8="NFR",DA8,0) -> 0 | DS8: =IF($F8="NFR",DB8,0) -> 0 | DT8: =IF($F8="NFR",DC8,0) -> 0 | DU8: =IF($F8="NFR",DD8,0) -> 0 | ... DZ8: =IF($F8="NFR",DI8,0) -> 0 | EA8: =SUM(DN8:DZ8) -> 0 | EC8: =DM8 -> 0 | ED8: =IF($F8=$ED$1,CW8,0) -> 0 | EE8: =IF($F8=$ED$1,CX8,0) -> 0 | EF8: =IF($F8=$ED$1,CY8,0) -> 0 | EG8: =IF($F8=$ED$1,CZ8,0) -> 0 | EH8: =IF($F8=$ED$1,DA8,0) -> 0 | EI8: =IF($F8=$ED$1,DB8,0) -> 0 | EJ8: =IF($F8=$ED$1,DC8,0) -> 0 | EK8: =IF($F8=$ED$1,DD8,0) -> 0 | ... EP8: =IF($F8=$ED$1,DI8,0) -> 0 | EQ8: =SUM(ED8:EP8) -> 0 | ES8: =EC8 -> 0 | ET8: =IF($F8=$ET$1,CW8,0) -> 0 | EU8: =IF($F8=$ET$1,CX8,0) -> 0 | EV8: =IF($F8=$ET$1,CY8,0) -> 0 | EW8: =IF($F8=$ET$1,CZ8,0) -> 0 | EX8: =IF($F8=$ET$1,DA8,0) -> 0 | EY8: =IF($F8=$ET$1,DB8,0) -> 0 | EZ8: =IF($F8=$ET$1,DC8,0) -> 0 | FA8: =IF($F8=$ET$1,DD8,0) -> 0 | ... FF8: =IF($F8=$ET$1,DI8,0) -> 0 | FG8: =SUM(ET8:FF8) -> 0 | FI8: =ES8 -> 0 | FJ8: =IF($F8=$FJ$1,CW8,0) -> 0 | FK8: =IF($F8=$FJ$1,CX8,0) -> 0 | FL8: =IF($F8=$FJ$1,CY8,0) -> 0 | FM8: =IF($F8=$FJ$1,CZ8,0) -> 0 | FN8: =IF($F8=$FJ$1,DA8,0) -> 0 | FO8: =IF($F8=$FJ$1,DB8,0) -> 0 | FP8: =IF($F8=$FJ$1,DC8,0) -> 0 | FQ8: =IF($F8=$FJ$1,DD8,0) -> 0 | ... FV8: =IF($F8=$FJ$1,DI8,0) -> 0 | FW8: =SUM(FJ8:FV8) -> 0 | FZ8: =FI8 -> 0 | GN8: =SUM(GA8:GM8) -> 0 | GQ8: =IF(Registrering!$B$29="Prosjekter som foregår i UiOs lokaler",IF($B8="Teknisk/adm. bistand/Feltassistent",(I8/12)*Tabeller!J$11,(I8/12)*Tabeller!J$10),IF($B8="Teknisk/adm. bistand/Feltassistent",(I8/12)*Tabeller!J$13,(I8/12)*Tabeller!J$12)) -> 0 | GR8: =IF(Registrering!$B$29="Prosjekter som foregår i UiOs lokaler",IF($B8="Teknisk/adm. bistand/Feltassistent",(J8/12)*Tabeller!K$11,(J8/12)*Tabeller!K$10),IF($B8="Teknisk/adm. bistand/Feltassistent",(J8/12)*Tabeller!K$13,(J8/12)*Tabeller!K$12)) -> 0 | GS8: =IF(Registrering!$B$29="Prosjekter som foregår i UiOs lokaler",IF($B8="Teknisk/adm. bistand/Feltassistent",(K8/12)*Tabeller!L$11,(K8/12)*Tabeller!L$10),IF($B8="Teknisk/adm. bistand/Feltassistent",(K8/12)*Tabeller!L$13,(K8/12)*Tabeller!L$12)) -> 0 | GT8: =IF(Registrering!$B$29="Prosjekter som foregår i UiOs lokaler",IF($B8="Teknisk/adm. bistand/Feltassistent",(L8/12)*Tabeller!M$11,(L8/12)*Tabeller!M$10),IF($B8="Teknisk/adm. bistand/Feltassistent",(L8/12)*Tabeller!M$13,(L8/12)*Tabeller!M$12)) -> 0 | GU8: =IF(Registrering!$B$29="Prosjekter som foregår i UiOs lokaler",IF($B8="Teknisk/adm. bistand/Feltassistent",(M8/12)*Tabeller!N$11,(M8/12)*Tabeller!N$10),IF($B8="Teknisk/adm. bistand/Feltassistent",(M8/12)*Tabeller!N$13,(M8/12)*Tabeller!N$12)) -> 0 | GV8: =IF(Registrering!$B$29="Prosjekter som foregår i UiOs lokaler",IF($B8="Teknisk/adm. bistand/Feltassistent",(N8/12)*Tabeller!O$11,(N8/12)*Tabeller!O$10),IF($B8="Teknisk/adm. bistand/Feltassistent",(N8/12)*Tabeller!O$13,(N8/12)*Tabeller!O$12)) -> 0 | GW8: =IF(Registrering!$B$29="Prosjekter som foregår i UiOs lokaler",IF($B8="Teknisk/adm. bistand/Feltassistent",(O8/12)*Tabeller!P$11,(O8/12)*Tabeller!P$10),IF($B8="Teknisk/adm. bistand/Feltassistent",(O8/12)*Tabeller!P$13,(O8/12)*Tabeller!P$12)) -> 0 | GX8: =IF(Registrering!$B$29="Prosjekter som foregår i UiOs lokaler",IF($B8="Teknisk/adm. bistand/Feltassistent",(P8/12)*Tabeller!Q$11,(P8/12)*Tabeller!Q$10),IF($B8="Teknisk/adm. bistand/Feltassistent",(P8/12)*Tabeller!Q$13,(P8/12)*Tabeller!Q$12)) -> 0 | ... HC8: =IF(Registrering!$B$29="Prosjekter som foregår i UiOs lokaler",IF($B8="Teknisk/adm. bistand/Feltassistent",(U8/12)*Tabeller!V$11,(U8/12)*Tabeller!V$10),IF($B8="Teknisk/adm. bistand/Feltassistent",(U8/12)*Tabeller!V$13,(U8/12)*Tabeller!V$12)) -> 0
